Index of /checkResults/3.20/bioc-LATEST/FELLA/raw-results/kjohnson3
Name
Last modified
Size
Description
Parent Directory
-
buildsrc-out.txt
06-Jul-2024 00:43
5.5K
install-out.txt
06-Jul-2024 00:43
1.0K
buildsrc-summary.dcf
06-Jul-2024 00:43
340
install-summary.dcf
06-Jul-2024 00:43
264