Name | Last modified | Size | Description | |
---|---|---|---|---|
Parent Directory | - | |||
buildsrc-out.txt | 27-Jul-2024 00:38 | 885 | ||
buildsrc-summary.dcf | 27-Jul-2024 00:38 | 416 | ||
checksrc-out.txt | 27-Jul-2024 00:38 | 3.7K | ||
checksrc-summary.dcf | 27-Jul-2024 00:38 | 406 | ||
install-out.txt | 27-Jul-2024 00:38 | 954 | ||
install-summary.dcf | 27-Jul-2024 00:38 | 255 | ||