Name | Last modified | Size | Description | |
---|---|---|---|---|
Parent Directory | - | |||
install-summary.dcf | 06-Jul-2024 00:43 | 279 | ||
buildsrc-summary.dcf | 06-Jul-2024 00:43 | 442 | ||
checksrc-summary.dcf | 06-Jul-2024 00:43 | 468 | ||
buildbin-summary.dcf | 06-Jul-2024 00:43 | 560 | ||
buildsrc-out.txt | 06-Jul-2024 00:43 | 866 | ||
checksrc-out.txt | 06-Jul-2024 00:43 | 6.1K | ||
install-out.txt | 06-Jul-2024 00:43 | 27K | ||
buildbin-out.txt | 06-Jul-2024 00:43 | 30K | ||