Name | Last modified | Size | Description | |
---|---|---|---|---|
Parent Directory | - | |||
buildsrc-summary.dcf | 06-Jul-2024 00:41 | 356 | ||
buildsrc-out.txt | 06-Jul-2024 00:41 | 1.5K | ||
install-summary.dcf | 06-Jul-2024 00:41 | 281 | ||
install-out.txt | 06-Jul-2024 00:41 | 1.3K | ||
buildbin-summary.dcf | 04-Jul-2024 00:41 | 566 | ||
buildbin-out.txt | 04-Jul-2024 00:41 | 1.5K | ||
checksrc-out.txt | 04-Jul-2024 00:41 | 4.8K | ||
checksrc-summary.dcf | 04-Jul-2024 00:41 | 474 | ||