Name | Last modified | Size | Description | |
---|---|---|---|---|
Parent Directory | - | |||
checksrc-out.txt | 04-Jul-2024 00:44 | 4.9K | ||
buildsrc-out.txt | 06-Jul-2024 00:44 | 1.5K | ||
install-out.txt | 06-Jul-2024 00:44 | 1.2K | ||
checksrc-summary.dcf | 04-Jul-2024 00:44 | 435 | ||
buildsrc-summary.dcf | 06-Jul-2024 00:44 | 333 | ||
install-summary.dcf | 06-Jul-2024 00:44 | 259 | ||