Index of /checkResults/3.20/bioc-LATEST/DeProViR/raw-results/palomino8
Name
Last modified
Size
Description
Parent Directory
-
buildsrc-out.txt
27-Jul-2024 00:39
1.2K
buildsrc-summary.dcf
27-Jul-2024 00:39
370
install-out.txt
27-Jul-2024 00:39
965
install-summary.dcf
27-Jul-2024 00:39
269