Index of /checkResults/3.20/bioc-LATEST/DeProViR/raw-results/palomino6
Name
Last modified
Size
Description
Parent Directory
-
install-out.txt
17-Jul-2024 00:40
1.0K
install-summary.dcf
17-Jul-2024 00:40
275
buildsrc-summary.dcf
17-Jul-2024 00:40
377
buildsrc-out.txt
17-Jul-2024 00:40
3.1K