Index of /checkResults/3.20/bioc-LATEST/DeProViR/raw-results/kunpeng2
Name
Last modified
Size
Description
Parent Directory
-
install-out.txt
07-Jul-2024 00:44
937
install-summary.dcf
07-Jul-2024 00:44
248
buildsrc-out.txt
09-Jul-2024 00:44
1.1K
buildsrc-summary.dcf
09-Jul-2024 00:44
322