Index of /checkResults/3.20/bioc-LATEST/DeProViR/raw-results/kjohnson3
Name
Last modified
Size
Description
Parent Directory
-
buildsrc-out.txt
27-Jul-2024 00:42
2.0K
buildsrc-summary.dcf
27-Jul-2024 00:42
344
install-out.txt
27-Jul-2024 00:42
1.0K
install-summary.dcf
27-Jul-2024 00:42
269