Index of /checkResults/3.20/bioc-LATEST/DeProViR/raw-results/kjohnson1
Name
Last modified
Size
Description
Parent Directory
-
install-summary.dcf
12-Jun-2024 04:43
270
install-out.txt
12-Jun-2024 04:43
1.0K
buildsrc-summary.dcf
12-Jun-2024 04:43
344
buildsrc-out.txt
12-Jun-2024 04:43
1.1K