Name | Last modified | Size | Description | |
---|---|---|---|---|
Parent Directory | - | |||
install-summary.dcf | 27-Jul-2024 00:38 | 258 | ||
install-out.txt | 27-Jul-2024 00:38 | 952 | ||
checksrc-summary.dcf | 19-Jun-2024 00:51 | 417 | ||
checksrc-out.txt | 19-Jun-2024 00:51 | 4.1K | ||
buildsrc-summary.dcf | 27-Jul-2024 00:38 | 339 | ||
buildsrc-out.txt | 27-Jul-2024 00:38 | 1.2K | ||