Name | Last modified | Size | Description | |
---|---|---|---|---|
Parent Directory | - | |||
install-summary.dcf | 12-Jun-2024 04:41 | 268 | ||
buildsrc-summary.dcf | 12-Jun-2024 04:41 | 427 | ||
checksrc-summary.dcf | 12-Jun-2024 04:41 | 443 | ||
buildbin-summary.dcf | 12-Jun-2024 04:41 | 528 | ||
buildsrc-out.txt | 12-Jun-2024 04:41 | 815 | ||
install-out.txt | 12-Jun-2024 04:41 | 1.0K | ||
buildbin-out.txt | 12-Jun-2024 04:41 | 1.1K | ||
checksrc-out.txt | 12-Jun-2024 04:41 | 3.5K | ||