Name | Last modified | Size | Description | |
---|---|---|---|---|
Parent Directory | - | |||
install-summary.dcf | 27-Jul-2024 00:41 | 268 | ||
install-out.txt | 27-Jul-2024 00:41 | 1.0K | ||
checksrc-summary.dcf | 02-Jul-2024 00:41 | 443 | ||
checksrc-out.txt | 02-Jul-2024 00:41 | 3.5K | ||
buildsrc-summary.dcf | 27-Jul-2024 00:41 | 343 | ||
buildsrc-out.txt | 27-Jul-2024 00:41 | 1.4K | ||
buildbin-summary.dcf | 02-Jul-2024 00:41 | 527 | ||
buildbin-out.txt | 02-Jul-2024 00:41 | 1.1K | ||