Index of /checkResults/3.20/bioc-LATEST/DMRcate/raw-results/kunpeng2
Name
Last modified
Size
Description
Parent Directory
-
install-out.txt
06-Jul-2024 00:44
614
install-summary.dcf
06-Jul-2024 00:44
248
buildsrc-out.txt
09-Jul-2024 00:44
1.9K
buildsrc-summary.dcf
09-Jul-2024 00:44
321