Name | Last modified | Size | Description | |
---|---|---|---|---|
Parent Directory | - | |||
buildbin-summary.dcf | 12-Jun-2024 04:42 | 524 | ||
buildbin-out.txt | 12-Jun-2024 04:42 | 4.3K | ||
checksrc-summary.dcf | 12-Jun-2024 04:42 | 445 | ||
checksrc-out.txt | 12-Jun-2024 04:42 | 4.8K | ||
buildsrc-summary.dcf | 12-Jun-2024 04:42 | 423 | ||
buildsrc-out.txt | 12-Jun-2024 04:42 | 842 | ||
install-summary.dcf | 12-Jun-2024 04:42 | 267 | ||
install-out.txt | 12-Jun-2024 04:42 | 2.3K | ||