Name | Last modified | Size | Description | |
---|---|---|---|---|
Parent Directory | - | |||
buildbin-summary.dcf | 06-Jul-2024 00:43 | 592 | ||
buildbin-out.txt | 06-Jul-2024 00:43 | 1.2K | ||
checksrc-summary.dcf | 06-Jul-2024 00:43 | 490 | ||
checksrc-out.txt | 06-Jul-2024 00:43 | 4.1K | ||
buildsrc-out.txt | 06-Jul-2024 00:43 | 910 | ||
buildsrc-summary.dcf | 06-Jul-2024 00:43 | 458 | ||
install-summary.dcf | 06-Jul-2024 00:43 | 290 | ||
install-out.txt | 06-Jul-2024 00:43 | 1.0K | ||