Name | Last modified | Size | Description | |
---|---|---|---|---|
Parent Directory | - | |||
buildbin-out.txt | 06-Jul-2024 00:41 | 4.3K | ||
buildbin-summary.dcf | 06-Jul-2024 00:41 | 519 | ||
buildsrc-out.txt | 06-Jul-2024 00:41 | 848 | ||
buildsrc-summary.dcf | 06-Jul-2024 00:41 | 422 | ||
checksrc-out.txt | 06-Jul-2024 00:41 | 6.4K | ||
checksrc-summary.dcf | 06-Jul-2024 00:41 | 442 | ||
install-out.txt | 06-Jul-2024 00:41 | 4.1K | ||
install-summary.dcf | 06-Jul-2024 00:41 | 265 | ||