Index of /checkResults/3.20/bioc-LATEST/Cepo/raw-results/merida1
Name
Last modified
Size
Description
Parent Directory
-
install-summary.dcf
12-Jun-2024 04:41
263
install-out.txt
12-Jun-2024 04:41
1.0K
buildsrc-summary.dcf
12-Jun-2024 04:41
338
buildsrc-out.txt
12-Jun-2024 04:41
1.2K