Name | Last modified | Size | Description | |
---|---|---|---|---|
Parent Directory | - | |||
buildbin-out.txt | 23-May-2024 00:36 | 1.4K | ||
buildbin-summary.dcf | 23-May-2024 00:36 | 515 | ||
buildsrc-out.txt | 12-Jun-2024 04:40 | 4.6K | ||
buildsrc-summary.dcf | 12-Jun-2024 04:40 | 369 | ||
checksrc-out.txt | 23-May-2024 00:36 | 6.3K | ||
checksrc-summary.dcf | 23-May-2024 00:36 | 453 | ||
install-out.txt | 12-Jun-2024 04:40 | 1.3K | ||
install-summary.dcf | 12-Jun-2024 04:40 | 268 | ||