Name | Last modified | Size | Description | |
---|---|---|---|---|
Parent Directory | - | |||
buildsrc-out.txt | 25-Jul-2024 00:38 | 830 | ||
buildsrc-summary.dcf | 25-Jul-2024 00:38 | 424 | ||
checksrc-out.txt | 25-Jul-2024 00:38 | 6.3K | ||
checksrc-summary.dcf | 25-Jul-2024 00:38 | 420 | ||
install-out.txt | 25-Jul-2024 00:38 | 1.3K | ||
install-summary.dcf | 25-Jul-2024 00:38 | 259 | ||