Name | Last modified | Size | Description | |
---|---|---|---|---|
Parent Directory | - | |||
buildbin-out.txt | 05-Jun-2024 03:35 | 1.5K | ||
buildbin-summary.dcf | 05-Jun-2024 03:35 | 531 | ||
buildsrc-out.txt | 12-Jun-2024 04:41 | 1.7K | ||
buildsrc-summary.dcf | 12-Jun-2024 04:41 | 344 | ||
checksrc-out.txt | 05-Jun-2024 03:35 | 6.4K | ||
checksrc-summary.dcf | 05-Jun-2024 03:35 | 451 | ||
install-out.txt | 12-Jun-2024 04:41 | 1.3K | ||
install-summary.dcf | 12-Jun-2024 04:41 | 270 | ||