Name | Last modified | Size | Description | |
---|---|---|---|---|
Parent Directory | - | |||
buildbin-out.txt | 25-Jul-2024 00:40 | 1.5K | ||
buildbin-summary.dcf | 25-Jul-2024 00:40 | 531 | ||
buildsrc-out.txt | 25-Jul-2024 00:40 | 816 | ||
buildsrc-summary.dcf | 25-Jul-2024 00:40 | 428 | ||
checksrc-out.txt | 25-Jul-2024 00:40 | 6.4K | ||
checksrc-summary.dcf | 25-Jul-2024 00:40 | 450 | ||
install-out.txt | 25-Jul-2024 00:40 | 1.3K | ||
install-summary.dcf | 25-Jul-2024 00:40 | 269 | ||