Name | Last modified | Size | Description | |
---|---|---|---|---|
Parent Directory | - | |||
install-summary.dcf | 27-Jul-2024 00:38 | 250 | ||
install-out.txt | 27-Jul-2024 00:38 | 948 | ||
checksrc-summary.dcf | 27-Jul-2024 00:38 | 396 | ||
checksrc-out.txt | 27-Jul-2024 00:38 | 3.7K | ||
buildsrc-summary.dcf | 27-Jul-2024 00:38 | 410 | ||
buildsrc-out.txt | 27-Jul-2024 00:38 | 876 | ||