Name | Last modified | Size | Description | |
---|---|---|---|---|
Parent Directory | - | |||
checksrc-out.txt | 12-Jun-2024 04:41 | 3.9K | ||
buildbin-out.txt | 12-Jun-2024 04:41 | 1.1K | ||
install-out.txt | 12-Jun-2024 04:41 | 1.0K | ||
buildsrc-out.txt | 12-Jun-2024 04:41 | 862 | ||
buildbin-summary.dcf | 12-Jun-2024 04:41 | 503 | ||
checksrc-summary.dcf | 12-Jun-2024 04:41 | 426 | ||
buildsrc-summary.dcf | 12-Jun-2024 04:41 | 415 | ||
install-summary.dcf | 12-Jun-2024 04:41 | 260 | ||