Name | Last modified | Size | Description | |
---|---|---|---|---|
Parent Directory | - | |||
buildbin-summary.dcf | 27-Jul-2024 00:42 | 503 | ||
buildbin-out.txt | 27-Jul-2024 00:42 | 1.1K | ||
checksrc-summary.dcf | 27-Jul-2024 00:42 | 425 | ||
checksrc-out.txt | 27-Jul-2024 00:42 | 3.8K | ||
buildsrc-summary.dcf | 27-Jul-2024 00:42 | 413 | ||
buildsrc-out.txt | 27-Jul-2024 00:42 | 862 | ||
install-summary.dcf | 27-Jul-2024 00:42 | 260 | ||
install-out.txt | 27-Jul-2024 00:42 | 1.0K | ||