Name | Last modified | Size | Description | |
---|---|---|---|---|
Parent Directory | - | |||
buildsrc-out.txt | 06-Jul-2024 00:38 | 829 | ||
buildsrc-summary.dcf | 06-Jul-2024 00:38 | 464 | ||
checksrc-out.txt | 06-Jul-2024 00:38 | 6.5K | ||
checksrc-summary.dcf | 06-Jul-2024 00:38 | 469 | ||
install-out.txt | 06-Jul-2024 00:38 | 2.9K | ||
install-summary.dcf | 06-Jul-2024 00:38 | 287 | ||