Name | Last modified | Size | Description | |
---|---|---|---|---|
Parent Directory | - | |||
buildbin-summary.dcf | 06-Jul-2024 00:41 | 612 | ||
buildbin-out.txt | 06-Jul-2024 00:41 | 5.0K | ||
checksrc-out.txt | 06-Jul-2024 00:41 | 6.5K | ||
checksrc-summary.dcf | 06-Jul-2024 00:41 | 499 | ||
buildsrc-summary.dcf | 06-Jul-2024 00:41 | 468 | ||
buildsrc-out.txt | 06-Jul-2024 00:41 | 815 | ||
install-summary.dcf | 06-Jul-2024 00:41 | 297 | ||
install-out.txt | 06-Jul-2024 00:41 | 2.8K | ||