Name | Last modified | Size | Description | |
---|---|---|---|---|
Parent Directory | - | |||
buildsrc-out.txt | 06-Jul-2024 00:44 | 781 | ||
buildsrc-summary.dcf | 06-Jul-2024 00:44 | 392 | ||
checksrc-out.txt | 06-Jul-2024 00:44 | 3.2K | ||
checksrc-summary.dcf | 06-Jul-2024 00:44 | 390 | ||
install-out.txt | 06-Jul-2024 00:44 | 925 | ||
install-summary.dcf | 06-Jul-2024 00:44 | 239 | ||