Name | Last modified | Size | Description | |
---|---|---|---|---|
Parent Directory | - | |||
install-summary.dcf | 06-Jul-2024 00:41 | 289 | ||
install-out.txt | 06-Jul-2024 00:41 | 1.0K | ||
checksrc-summary.dcf | 06-Jul-2024 00:41 | 490 | ||
checksrc-out.txt | 06-Jul-2024 00:41 | 5.1K | ||
buildsrc-summary.dcf | 06-Jul-2024 00:41 | 457 | ||
buildsrc-out.txt | 06-Jul-2024 00:41 | 856 | ||
buildbin-summary.dcf | 06-Jul-2024 00:41 | 588 | ||
buildbin-out.txt | 06-Jul-2024 00:41 | 1.2K | ||