Name | Last modified | Size | Description | |
---|---|---|---|---|
Parent Directory | - | |||
checksrc-out.txt | 06-Jul-2024 00:39 | 3.0K | ||
buildbin-out.txt | 06-Jul-2024 00:39 | 1.1K | ||
install-out.txt | 06-Jul-2024 00:39 | 1.0K | ||
buildsrc-out.txt | 06-Jul-2024 00:39 | 859 | ||
buildbin-summary.dcf | 06-Jul-2024 00:39 | 536 | ||
checksrc-summary.dcf | 06-Jul-2024 00:39 | 469 | ||
buildsrc-summary.dcf | 06-Jul-2024 00:39 | 468 | ||
install-summary.dcf | 06-Jul-2024 00:39 | 279 | ||