Switch to long report

Multiple platform build/check report for BioC 3.20

This page was generated on 2024-07-13 11:46 -0400 (Sat, 13 Jul 2024).

Approx. Package Snapshot Date/Time (git pull): 2024-07-12 14:00 -0400 (Fri, 12 Jul 2024)
See this page for all the Bioconductor builds and their schedule.

Package status is indicated by one of the following glyphs
  TIMEOUT  
INSTALL, BUILD, CHECK or BUILD BIN of package took more than 40 minutes
  ERROR  
Bad DESCRIPTION file, or INSTALL, BUILD or BUILD BIN of package failed, or CHECK produced errors
  WARNINGS  
CHECK of package produced warnings
  OK  
INSTALL, BUILD, CHECK and BUILD BIN of package went OK
  NA  
INSTALL, BUILD, CHECK or BUILD BIN result is not available because of an anomaly in the Build System
Click on any glyph in the report below to access the detailed report.
A
ABCDEFGHIJKLMNOPQRSTUVWXYZ
PackageMaintainerINSTALL/BUILD/CHECK
1/2243a4 1.53.0  (landing page)Laure Cougnaud  OK  
2/2243a4Base 1.53.0  (landing page)Laure Cougnaud  OK  
3/2243a4Classif 1.53.0  (landing page)Laure Cougnaud  OK  
4/2243a4Core 1.53.0  (landing page)Laure Cougnaud  OK  
5/2243a4Preproc 1.53.0  (landing page)Laure Cougnaud  OK  
6/2243a4Reporting 1.53.0  (landing page)Laure Cougnaud  OK  
7/2243ABarray 1.73.0  (landing page)Yongming Andrew Sun  OK  
8/2243abseqR 1.23.0  (landing page)JiaHong Fong  OK  
9/2243ABSSeq 1.59.0  (landing page)Wentao Yang  OK  
10/2243acde 1.35.0  (landing page)Juan Pablo Acosta  OK  
11/2243ACE 1.23.0  (landing page)Jos B Poell  OK  
12/2243aCGH 1.83.0  (landing page)Peter Dimitrov  OK  
13/2243ACME 2.61.0  (landing page)Sean Davis  WARNINGS  
14/2243ADaCGH2 2.45.0  (landing page)Ramon Diaz-Uriarte  OK  
15/2243ADAM 1.21.0  (landing page)Jose Luiz Rybarczyk Filho  OK  
16/2243ADAMgui 1.21.0  (landing page)Jose Luiz Rybarczyk Filho  OK  
17/2243adductomicsR 1.21.0  (landing page)Josie Hayes  WARNINGS  
18/2243ADImpute 1.15.0  (landing page)Ana Carolina Leote  WARNINGS  
19/2243adSplit 1.75.0  (landing page)Claudio Lottaz  OK  
20/2243adverSCarial 1.3.9  (landing page)Ghislain FIEVET  WARNINGS  
21/2243AffiXcan 1.23.0  (landing page)Alessandro Lussana  OK  
22/2243affxparser 1.77.0  (landing page)Kasper Daniel Hansen  WARNINGS  
23/2243affy 1.83.0  (landing page)Robert D. Shear  WARNINGS  
24/2243affycomp 1.81.0  (landing page)Robert D. Shear  OK  
25/2243affyContam 1.63.0  (landing page)V. Carey  OK  
26/2243affycoretools 1.77.0  (landing page)James W. MacDonald  OK  
27/2243affyILM 1.57.0  (landing page)Myriam Kroll and Fabrice Berger  OK  
28/2243affyio 1.75.0  (landing page)Ben Bolstad  WARNINGS  
29/2243affylmGUI 1.79.0  (landing page)Gordon Smyth  OK  
30/2243affyPLM 1.81.0  (landing page)Ben Bolstad  WARNINGS  
31/2243AffyRNADegradation 1.51.0  (landing page)Mario Fasold  OK  
32/2243AGDEX 1.53.0  (landing page)Cuilan lani Gao  OK  
33/2243aggregateBioVar 1.15.0  (landing page)Jason Ratcliff  OK  
34/2243agilp 3.37.0  (landing page)Benny Chain  OK  
35/2243AgiMicroRna 2.55.0  (landing page)Pedro Lopez-Romero  WARNINGS  
36/2243AHMassBank 1.5.0  (landing page)Johannes Rainer  OK  
37/2243AIMS 1.37.0  (landing page)Eric R Paquet  OK  
38/2243airpart 1.13.0  (landing page)Wancen Mu  OK  
39/2243alabaster 1.5.0  (landing page)Aaron Lun  OK  
40/2243alabaster.base 1.5.3  (landing page)Aaron Lun  WARNINGS  
41/2243alabaster.bumpy 1.5.0  (landing page)Aaron Lun  OK  
42/2243alabaster.files 1.3.0  (landing page)Aaron Lun  OK  
43/2243alabaster.mae 1.5.0  (landing page)Aaron Lun  OK  
44/2243alabaster.matrix 1.5.4  (landing page)Aaron Lun  ERROR  
45/2243alabaster.ranges 1.5.2  (landing page)Aaron Lun  OK  
46/2243alabaster.sce 1.5.1  (landing page)Aaron Lun  OK  
47/2243alabaster.schemas 1.5.0  (landing page)Aaron Lun  OK  
48/2243alabaster.se 1.5.3  (landing page)Aaron Lun  OK  
49/2243alabaster.spatial 1.5.1  (landing page)Aaron Lun  OK  
50/2243alabaster.string 1.5.0  (landing page)Aaron Lun  OK  
51/2243alabaster.vcf 1.5.0  (landing page)Aaron Lun  OK  
52/2243ALDEx2 1.37.0  (landing page)Greg Gloor  OK  
53/2243alevinQC 1.21.0  (landing page)Charlotte Soneson  OK  
54/2243AllelicImbalance 1.43.0  (landing page)Jesper R Gadin  OK  
55/2243AlphaBeta 1.19.0  (landing page)Yadollah Shahryary Dizaji  OK  
56/2243AlphaMissenseR 1.1.5  (landing page)Martin Morgan  ERROR  
57/2243AlpsNMR 4.7.1  (landing page)Sergio Oller Moreno  ERROR  
58/2243altcdfenvs 2.67.0  (landing page)Laurent Gautier  OK  
59/2243AMARETTO 1.21.0  (landing page)Olivier Gevaert  WARNINGS  
60/2243AMOUNTAIN 1.31.0  (landing page)Dong Li  OK  
61/2243amplican 1.27.0  (landing page)Eivind Valen  OK  
62/2243Anaquin 2.29.0  (landing page)Ted Wong  OK  
63/2243ANCOMBC 2.7.0  (landing page)Huang Lin  OK  
64/2243AneuFinder 1.33.0  (landing page)Aaron Taudt  OK  
65/2243ANF 1.27.0  (landing page)Tianle Ma  OK  
66/2243animalcules 1.21.0  (landing page)Jessica McClintock  ERROR  
67/2243annaffy 1.77.0  (landing page)Colin A. Smith  WARNINGS  
68/2243annmap 1.47.0  (landing page)Chris Wirth  WARNINGS  
69/2243annotate 1.83.0  (landing page)Bioconductor Package Maintainer  ERROR  
70/2243AnnotationDbi 1.67.0  (landing page)Bioconductor Package Maintainer  WARNINGS  
71/2243AnnotationFilter 1.29.0  (landing page)Bioconductor Package Maintainer  OK  
72/2243AnnotationForge 1.47.1  (landing page)Bioconductor Package Maintainer  OK  
73/2243AnnotationHub 3.13.0  (landing page)Bioconductor Package Maintainer  ERROR  
74/2243AnnotationHubData 1.35.0  (landing page)Bioconductor Package Maintainer  WARNINGS  
75/2243annotationTools 1.79.0  (landing page)Alexandre Kuhn  OK  
76/2243annotatr 1.31.0  (landing page)Raymond G. Cavalcante  OK  
77/2243anota 1.53.0  (landing page)Ola Larsson  OK  
78/2243anota2seq 1.27.0  (landing page)Christian Oertlin , Ola Larsson  WARNINGS  
79/2243antiProfiles 1.45.0  (landing page)Hector Corrada Bravo  OK  
80/2243AnVIL 1.17.7  (landing page)Marcel Ramos  OK  
81/2243AnVILBilling 1.15.0  (landing page)Vince Carey  OK  
82/2243AnVILPublish 1.15.0  (landing page)Marcel Ramos  OK  
83/2243AnVILWorkflow 1.5.0  (landing page)Sehyun Oh  WARNINGS  
84/2243APAlyzer 1.19.0  (landing page)Ruijia Wang  WARNINGS  
85/2243apComplex 2.71.0  (landing page)Denise Scholtens  OK  
86/2243apeglm 1.27.1  (landing page)Anqi Zhu  OK  
87/2243APL 1.9.1  (landing page)Clemens Kohl  ERROR  
88/2243appreci8R 1.23.0  (landing page)Sarah Sandmann  OK  
89/2243aroma.light 3.35.0  (landing page)Henrik Bengtsson  OK  
90/2243ArrayExpress 1.65.0  (landing page)Jose Marugan  OK  
91/2243arrayMvout 1.63.0  (landing page)V. Carey  OK  
92/2243arrayQuality 1.83.0  (landing page)Agnes Paquet  WARNINGS  
93/2243arrayQualityMetrics 3.61.0  (landing page)Mike Smith  OK  
94/2243ARRmNormalization 1.45.0  (landing page)Jean-Philippe Fortin  OK  
95/2243artMS 1.23.0  (landing page)David Jimenez-Morales  OK  
96/2243ASAFE 1.31.0  (landing page)Qian Zhang  OK  
97/2243ASEB 1.49.0  (landing page)Likun Wang  WARNINGS  
98/2243ASGSCA 1.39.0  (landing page)Hela Romdhani  OK  
99/2243ASICS 2.21.1  (landing page)Gaëlle Lefort  WARNINGS  
100/2243ASpli 2.15.0  (landing page)Ariel Chernomoretz  WARNINGS  
101/2243AssessORF 1.23.0  (landing page)Deepank Korandla  ERROR  
102/2243ASSET 2.23.0  (landing page)Samsiddhi Bhattacharjee  OK  
103/2243ASSIGN 1.41.0  (landing page)Ying Shen , W. Evan Johnson  OK  
104/2243ASURAT 1.9.0  (landing page)Keita Iida  OK  
105/2243ATACCoGAPS 1.7.0  (landing page)Rossin Erbe  ERROR  
106/2243ATACseqQC 1.29.0  (landing page)Jianhong Ou  OK  
107/2243ATACseqTFEA 1.7.0  (landing page)Jianhong Ou  OK  
108/2243atena 1.11.0  (landing page)Robert Castelo  OK  
109/2243atSNP 1.21.0  (landing page)Sunyoung Shin  OK  
110/2243attract 1.57.0  (landing page)Samuel Zimmerman  OK  
111/2243AUCell 1.27.0  (landing page)Gert Hulselmans  OK  
112/2243autonomics 1.13.21  (landing page)Aditya Bhagwat  OK  
113/2243AWFisher 1.19.0  (landing page)Zhiguang Huo  OK  
114/2243awst 1.13.0  (landing page)Davide Risso  OK  
B
ABCDEFGHIJKLMNOPQRSTUVWXYZ
PackageMaintainerINSTALL/BUILD/CHECK
115/2243BaalChIP 1.31.0  (landing page)Ines de Santiago  WARNINGS  
116/2243bacon 1.33.0  (landing page)Maarten van Iterson  OK  
117/2243BADER 1.43.0  (landing page)Andreas Neudecker  OK  
118/2243BadRegionFinder 1.33.0  (landing page)Sarah Sandmann  OK  
119/2243BAGS 2.45.0  (landing page)Alejandro Quiroz-Zarate  OK  
120/2243ballgown 2.37.0  (landing page)Jack Fu  OK  
121/2243bambu 3.7.0  (landing page)Ying Chen  OK  
122/2243bamsignals 1.37.0  (landing page)Johannes Helmuth  OK  
123/2243BANDITS 1.21.0  (landing page)Simone Tiberi  OK  
124/2243bandle 1.9.0  (landing page)Oliver M. Crook  WARNINGS  
125/2243Banksy 1.1.0  (landing page)Joseph Lee  OK  
126/2243banocc 1.29.0  (landing page)George Weingart  OK  
127/2243barcodetrackR 1.13.0  (landing page)Diego Alexander Espinoza  OK  
128/2243basecallQC 1.29.0  (landing page)Thomas Carroll  OK  
129/2243BaseSpaceR 1.49.0  (landing page)Jared O'Connell  WARNINGS  
130/2243Basic4Cseq 1.41.0  (landing page)Carolin Walter  OK  
131/2243BASiCS 2.17.0  (landing page)Catalina Vallejos  WARNINGS  
132/2243BASiCStan 1.7.0  (landing page)Alan O'Callaghan  OK  
133/2243BasicSTARRseq 1.33.0  (landing page)Annika Buerger  OK  
134/2243basilisk 1.17.0  (landing page)Aaron Lun  TIMEOUT  
135/2243basilisk.utils 1.17.0  (landing page)Aaron Lun  OK  
136/2243batchelor 1.21.1  (landing page)Aaron Lun  OK  
137/2243BatchQC 2.1.2  (landing page)Jessica McClintock  OK  
138/2243BayesKnockdown 1.31.0  (landing page)William Chad Young  OK  
139/2243BayesSpace 1.15.0  (landing page)Matt Stone  OK  
140/2243bayNorm 1.23.0  (landing page)Wenhao Tang  OK  
141/2243baySeq 2.39.0  (landing page)Samuel Granjeaud  OK  
142/2243BBCAnalyzer 1.35.0  (landing page)Sarah Sandmann  WARNINGS  
143/2243BCRANK 1.67.0  (landing page)Adam Ameur  OK  
144/2243bcSeq 1.27.0  (landing page)Jiaxing Lin  WARNINGS  
145/2243beachmat 2.21.4  (landing page)Aaron Lun  OK  
146/2243beachmat.hdf5 1.3.1  (landing page)Aaron Lun  WARNINGS  
147/2243beadarray 2.55.1  (landing page)Mark Dunning  ERROR  
148/2243BeadDataPackR 1.57.0  (landing page)Mike Smith  OK  
149/2243BEARscc 1.25.0  (landing page)Benjamin Schuster-Boeckler  OK  
150/2243BEAT 1.43.0  (landing page)Kemal Akman  OK  
151/2243BEclear 2.21.0  (landing page)Livia Rasp  OK  
152/2243beer 1.9.0  (landing page)Athena Chen  OK  
153/2243benchdamic 1.11.0  (landing page)Matteo Calgaro  OK  
154/2243BERT 1.1.0  (landing page)Yannis Schumann  OK  
155/2243betaHMM 1.1.0  (landing page)Koyel Majumdar  OK  
156/2243bettr 1.1.0  (landing page)Charlotte Soneson  OK  
157/2243BG2 1.5.0  (landing page)Jacob Williams  OK  
158/2243BgeeCall 1.21.1  (landing page)Julien Wollbrett  ERROR  
159/2243BgeeDB 2.31.0  (landing page)Julien Wollbrett , Julien Roux , Andrea Komljenovic , Frederic Bastian  OK  
160/2243bgx 1.71.0  (landing page)Ernest Turro  WARNINGS  
161/2243BicARE 1.63.0  (landing page)Pierre Gestraud  OK  
162/2243BiFET 1.25.0  (landing page)Ahrim Youn  OK  
163/2243BiGGR 1.41.0  (landing page)Anand K. Gavai  OK  
164/2243bigmelon 1.31.1  (landing page)Leonard C. Schalkwyk  ERROR  
165/2243BindingSiteFinder 2.3.1  (landing page)Mirko Brüggemann  OK  
166/2243bioassayR 1.43.0  (landing page)Daniela Cassol  ERROR  
167/2243Biobase 2.65.0  (landing page)Bioconductor Package Maintainer  OK  
168/2243biobroom 1.37.0  (landing page)John D. Storey and Andrew J. Bass  WARNINGS  
169/2243biobtreeR 1.17.0  (landing page)Tamer Gur  OK  
170/2243bioCancer 1.33.0  (landing page)Karim Mezhoud  OK  
171/2243BioCartaImage 1.3.0  (landing page)Zuguang Gu  OK  
172/2243BiocBaseUtils 1.7.0  (landing page)Marcel Ramos  OK  
173/2243BiocBook 1.3.0  (landing page)Jacques Serizay  ERROR  
174/2243BiocCheck 1.41.4  (landing page)Marcel Ramos  OK  
175/2243BiocFHIR 1.7.0  (landing page)Vincent Carey  OK  
176/2243BiocFileCache 2.13.0  (landing page)Lori Shepherd  OK  
177/2243BiocGenerics 0.51.0  (landing page)Hervé Pagès  WARNINGS  
178/2243biocGraph 1.67.0  (landing page)Florian Hahne  OK  
179/2243BiocHail 1.5.0  (landing page)Vincent Carey  OK  
180/2243BiocHubsShiny 1.5.0  (landing page)Marcel Ramos  OK  
181/2243BiocIO 1.15.0  (landing page)Marcel Ramos  OK  
182/2243BiocNeighbors 1.23.0  (landing page)Aaron Lun  WARNINGS  
183/2243BiocOncoTK 1.25.1  (landing page)VJ Carey  ERROR  
184/2243BioCor 1.29.0  (landing page)Lluís Revilla Sancho  OK  
185/2243BiocParallel 1.39.0  (landing page)Martin Morgan  TIMEOUT  
186/2243BiocPkgTools 1.23.1  (landing page)Sean Davis  OK  
187/2243biocroxytest 1.1.0  (landing page)Francesc Catala-Moll  OK  
188/2243BiocSet 1.19.0  (landing page)Kayla Morrell  OK  
189/2243BiocSingular 1.21.2  (landing page)Aaron Lun  OK  
190/2243BiocSklearn 1.27.1  (landing page)Vince Carey  OK  
191/2243BiocStyle 2.33.1  (landing page)Bioconductor Package  OK  
192/2243biocthis 1.15.0  (landing page)Leonardo Collado-Torres  OK  
193/2243BiocVersion 3.20.0  (landing page)Bioconductor Package Maintainer  OK  
194/2243biocViews 1.73.0  (landing page)Bioconductor Package Maintainer  WARNINGS  
195/2243BiocWorkflowTools 1.31.0  (landing page)Mike Smith  OK  
196/2243biodb 1.13.0  (landing page)Pierrick Roger  WARNINGS  
197/2243biodbChebi 1.11.0  (landing page)Pierrick Roger  OK  
198/2243biodbExpasy 1.9.0  (landing page)Pierrick Roger  ERROR  
199/2243biodbHmdb 1.11.0  (landing page)Pierrick Roger  WARNINGS  
200/2243biodbKegg 1.11.0  (landing page)Pierrick Roger  ERROR  
201/2243biodbNcbi 1.9.0  (landing page)Pierrick Roger  OK  
202/2243biodbNci 1.9.0  (landing page)Pierrick Roger  OK  
203/2243biodbUniprot 1.11.0  (landing page)Pierrick Roger  OK  
204/2243bioDist 1.77.0  (landing page)Bioconductor Package Maintainer  OK  
205/2243BioGA 0.99.6  (landing page)Dany Mukesha  OK  
206/2243biomaRt 2.61.2  (landing page)Mike Smith  OK  
207/2243biomformat 1.33.0  (landing page)Paul J. McMurdie  OK  
208/2243BioMVCClass 1.73.0  (landing page)Elizabeth Whalen  OK  
209/2243biomvRCNS 1.45.0  (landing page)Yang Du  OK  
210/2243BioNAR 1.7.0  (landing page)Anatoly Sorokin  OK  
211/2243BioNERO 1.13.0  (landing page)Fabricio Almeida-Silva  OK  
212/2243BioNet 1.65.0  (landing page)Marcus Dittrich  OK  
213/2243BioQC 1.33.0  (landing page)Jitao David Zhang  OK  
214/2243biosigner 1.33.0  (landing page)Etienne A. Thevenot  ERROR  
215/2243Biostrings 2.73.1  (landing page)Hervé Pagès  WARNINGS  
216/2243BioTIP 1.19.0  (landing page)Yuxi (Jennifer) Sun , Zhezhen Wang , and X Holly Yang  WARNINGS  
217/2243biotmle 1.29.0  (landing page)Nima Hejazi  OK  
218/2243biovizBase 1.53.0  (landing page)Michael Lawrence  WARNINGS  
219/2243BiRewire 3.37.0  (landing page)Andrea Gobbi  WARNINGS  
220/2243biscuiteer 1.19.0  (landing page)Jacob Morrison  WARNINGS  
221/2243BiSeq 1.45.0  (landing page)Katja Hebestreit  OK  
222/2243blacksheepr 1.19.0  (landing page)RugglesLab  OK  
223/2243blima 1.39.0  (landing page)Vojtěch Kulvait  OK  
224/2243BLMA 1.29.0  (landing page)Van-Dung Pham  OK  
225/2243BloodGen3Module 1.13.0  (landing page)Darawan Rinchai  WARNINGS  
226/2243bluster 1.15.0  (landing page)Aaron Lun  OK  
227/2243bnbc 1.27.0  (landing page)Kipper Fletez-Brant  OK  
228/2243bnem 1.13.0  (landing page)Martin Pirkl  OK  
229/2243BOBaFIT 1.9.0  (landing page)Gaia Mazzocchetti  WARNINGS  
230/2243borealis 1.9.0  (landing page)Garrett Jenkinson  OK  
231/2243BPRMeth 1.31.0  (landing page)Chantriolnt-Andreas Kapourani  OK  
232/2243BRAIN 1.51.0  (landing page)Piotr Dittwald  WARNINGS  
233/2243brainflowprobes 1.19.0  (landing page)Amanda Price  ERROR  
234/2243branchpointer 1.31.0  (landing page)Beth Signal  OK  
235/2243breakpointR 1.23.0  (landing page)David Porubsky  OK  
236/2243brendaDb 1.19.0  (landing page)Yi Zhou  OK  
237/2243BREW3R.r 1.1.1  (landing page)Lucille Lopez-Delisle  OK  
238/2243BRGenomics 1.17.0  (landing page)Mike DeBerardine  TIMEOUT  
239/2243BridgeDbR 2.15.0  (landing page)Egon Willighagen  OK  
240/2243broadSeq 0.99.3  (landing page)Rishi Das Roy  OK  
241/2243BrowserViz 2.27.0  (landing page)Arkadiusz Gladki  OK  
242/2243BSgenome 1.73.0  (landing page)Hervé Pagès  ERROR  
243/2243BSgenomeForge 1.5.0  (landing page)Hervé Pagès  ERROR  
244/2243bsseq 1.41.0  (landing page)Kasper Daniel Hansen  OK  
245/2243BubbleTree 2.35.0  (landing page)Todd Creasy , Wei Zhu  OK  
246/2243BufferedMatrix 1.69.0  (landing page)Ben Bolstad  WARNINGS  
247/2243BufferedMatrixMethods 1.69.0  (landing page)Ben Bolstad  OK  
248/2243bugsigdbr 1.11.0  (landing page)Ludwig Geistlinger  OK  
249/2243BUMHMM 1.29.0  (landing page)Alina Selega  OK  
250/2243bumphunter 1.47.0  (landing page)Tamilselvi Guharaj  OK  
251/2243BumpyMatrix 1.13.0  (landing page)Aaron Lun  OK  
252/2243BUS 1.61.0  (landing page)Yuanhua Liu  OK  
253/2243BUScorrect 1.23.0  (landing page)Xiangyu Luo  OK  
254/2243BUSpaRse 1.19.0  (landing page)Lambda Moses  ERROR  
255/2243BUSseq 1.11.0  (landing page)Fangda Song  OK  
C
ABCDEFGHIJKLMNOPQRSTUVWXYZ
PackageMaintainerINSTALL/BUILD/CHECK
256/2243CaDrA 1.3.0  (landing page)Reina Chau  OK  
257/2243CAEN 1.13.0  (landing page)Zhou Yan  OK  
258/2243CAFE 1.41.0  (landing page)Sander Bollen  WARNINGS  
259/2243CAGEfightR 1.25.0  (landing page)Malte Thodberg  OK  
260/2243cageminer 1.11.0  (landing page)Fabrício Almeida-Silva  OK  
261/2243CAGEr 2.11.3  (landing page)Charles Plessy  OK  
262/2243calm 1.19.0  (landing page)Kun Liang  OK  
263/2243CAMERA 1.61.0  (landing page)Steffen Neumann  ERROR  
264/2243CaMutQC 1.1.0  (landing page)Xin Wang  OK  
265/2243canceR 1.39.0  (landing page)Karim Mezhoud  OK  
266/2243cancerclass 1.49.0  (landing page)Daniel Kosztyla  WARNINGS  
267/2243cardelino 1.7.0  (landing page)Davis McCarthy  OK  
268/2243Cardinal 3.7.1  (landing page)Kylie Ariel Bemis  OK  
269/2243CardinalIO 1.3.1  (landing page)Kylie Ariel Bemis  OK  
270/2243CARNIVAL 2.15.0  (landing page)Attila Gabor  OK  
271/2243casper 2.39.0  (landing page)David Rossell  ERROR  
272/2243CATALYST 1.29.1  (landing page)Helena L. Crowell  OK  
273/2243Category 2.71.0  (landing page)Bioconductor Package Maintainer  OK  
274/2243categoryCompare 1.49.0  (landing page)Robert M. Flight  OK  
275/2243CausalR 1.37.0  (landing page)Glyn Bradley , Steven Barrett  OK  
276/2243cbaf 1.27.4  (landing page)Arman Shahrisa  OK  
277/2243CBEA 1.5.0  (landing page)Quang Nguyen  OK  
278/2243cBioPortalData 2.17.0  (landing page)Marcel Ramos  OK  
279/2243CBNplot 1.5.0  (landing page)Noriaki Sato  OK  
280/2243cbpManager 1.13.0  (landing page)Arsenij Ustjanzew  WARNINGS  
281/2243ccfindR 1.25.0  (landing page)Jun Woo  ERROR  
282/2243ccImpute 1.7.0  (landing page)Marcin Malec  OK  
283/2243ccmap 1.31.0  (landing page)Alex Pickering  WARNINGS  
284/2243CCPlotR 1.3.0  (landing page)Sarah Ennis  WARNINGS  
285/2243CCPROMISE 1.31.0  (landing page)Xueyuan Cao  WARNINGS  
286/2243ccrepe 1.41.0  (landing page)Emma Schwager ,Craig Bielski, George Weingart  OK  
287/2243CDI 1.3.0  (landing page)Jiyuan Fang  OK  
288/2243celaref 1.23.0  (landing page)Sarah Williams  ERROR  
289/2243celda 1.21.0  (landing page)Joshua Campbell  OK  
290/2243CellaRepertorium 1.15.0  (landing page)Andrew McDavid  ERROR  
291/2243CellBarcode 1.11.0  (landing page)Wenjie Sun  OK  
292/2243cellbaseR 1.29.0  (landing page)Mohammed OE Abdallah  OK  
293/2243CellBench 1.21.0  (landing page)Shian Su  OK  
294/2243CelliD 1.13.0  (landing page)Akira Cortal  WARNINGS  
295/2243cellity 1.33.0  (landing page)Tomislav Ilicic  OK  
296/2243CellMapper 1.31.0  (landing page)Brad Nelms  WARNINGS  
297/2243cellmigRation 1.13.0  (landing page)Waldir Leoncio  OK  
298/2243CellMixS 1.21.0  (landing page)Almut Lütge  OK  
299/2243CellNOptR 1.51.0  (landing page)Attila Gabor  ERROR  
300/2243cellscape 1.29.0  (landing page)Shixiang Wang  OK  
301/2243CellScore 1.25.0  (landing page)Nancy Mah  OK  
302/2243CellTrails 1.23.0  (landing page)Daniel Ellwanger  OK  
303/2243cellxgenedp 1.9.0  (landing page)Martin Morgan  OK  
304/2243CEMiTool 1.29.0  (landing page)Helder Nakaya  OK  
305/2243censcyt 1.13.0  (landing page)Reto Gerber  OK  
306/2243Cepo 1.11.2  (landing page)Hani Jieun Kim  OK  
307/2243ceRNAnetsim 1.17.0  (landing page)Selcen Ari Yuka  OK  
308/2243CeTF 1.17.0  (landing page)Carlos Alberto Oliveira de Biagi Junior  OK  
309/2243CexoR 1.43.0  (landing page)Pedro Madrigal  OK  
310/2243CFAssay 1.39.0  (landing page)Herbert Braselmann  OK  
311/2243cfdnakit 1.3.0  (landing page)Pitithat Puranachot  OK  
312/2243cfDNAPro 1.11.0  (landing page)Haichao Wang  WARNINGS  
313/2243cfTools 1.5.0  (landing page)Ran Hu  ERROR  
314/2243CGEN 3.41.0  (landing page)Justin Lee  WARNINGS  
315/2243CGHbase 1.65.0  (landing page)Mark van de Wiel  OK  
316/2243CGHcall 2.67.0  (landing page)Mark van de Wiel  WARNINGS  
317/2243cghMCR 1.63.0  (landing page)J. Zhang  WARNINGS  
318/2243CGHnormaliter 1.59.0  (landing page)Bart P.P. van Houte  OK  
319/2243CGHregions 1.63.0  (landing page)Sjoerd Vosse  OK  
320/2243ChAMP 2.35.0  (landing page)Yuan Tian  WARNINGS  
321/2243ChemmineOB 1.43.0  (landing page)Thomas Girke  ERROR  
322/2243ChemmineR 3.57.0  (landing page)Thomas Girke  ERROR  
323/2243CHETAH 1.21.0  (landing page)Jurrian de Kanter  OK  
324/2243Chicago 1.33.0  (landing page)Mikhail Spivakov  OK  
325/2243chihaya 1.5.0  (landing page)Aaron Lun  WARNINGS  
326/2243chimeraviz 1.31.0  (landing page)Stian Lågstad  ERROR  
327/2243ChIPanalyser 1.27.0  (landing page)Patrick C.N. Martin  OK  
328/2243ChIPComp 1.35.0  (landing page)Li Chen  OK  
329/2243chipenrich 2.29.0  (landing page)Kai Wang  OK  
330/2243ChIPexoQual 1.29.0  (landing page)Rene Welch  OK  
331/2243ChIPpeakAnno 3.39.2  (landing page)Jianhong Ou  ERROR  
332/2243ChIPQC 1.41.0  (landing page)Tom Carroll , Rory Stark  WARNINGS  
333/2243ChIPseeker 1.41.0  (landing page)Guangchuang Yu  OK  
334/2243chipseq 1.55.0  (landing page)Bioconductor Package Maintainer  WARNINGS  
335/2243ChIPseqR 1.59.0  (landing page)Peter Humburg  OK  
336/2243ChIPsim 1.59.0  (landing page)Peter Humburg  OK  
337/2243ChIPXpress 1.49.0  (landing page)George Wu  OK  
338/2243chopsticks 1.71.0  (landing page)Hin-Tak Leung  WARNINGS  
339/2243chromDraw 2.35.0  (landing page)Jan Janecka  WARNINGS  
340/2243ChromHeatMap 1.59.0  (landing page)Tim F. Rayner  OK  
341/2243chromPlot 1.33.0  (landing page)Karen Y. Orostica  WARNINGS  
342/2243ChromSCape 1.15.0  (landing page)Pacome Prompsy  WARNINGS  
343/2243chromstaR 1.31.0  (landing page)Aaron Taudt  OK  
344/2243chromVAR 1.27.0  (landing page)Alicia Schep  OK  
345/2243CHRONOS 1.33.0  (landing page)Panos Balomenos  TIMEOUT  
346/2243cicero 1.23.0  (landing page)Hannah Pliner  OK  
347/2243CIMICE 1.13.0  (landing page)Nicolò Rossi  OK  
348/2243CINdex 1.33.0  (landing page)Yuriy Gusev  WARNINGS  
349/2243circRNAprofiler 1.19.0  (landing page)Simona Aufiero  OK  
350/2243CircSeqAlignTk 1.7.0  (landing page)Jianqiang Sun  ERROR  
351/2243cisPath 1.45.0  (landing page)Likun Wang  WARNINGS  
352/2243CiteFuse 1.17.0  (landing page)Yingxin Lin  OK  
353/2243ClassifyR 3.9.2  (landing page)Dario Strbenac  WARNINGS  
354/2243cleanUpdTSeq 1.43.0  (landing page)Jianhong Ou ; Lihua Julie Zhu  OK  
355/2243cleaver 1.43.0  (landing page)Sebastian Gibb  OK  
356/2243clevRvis 1.5.0  (landing page)Sarah Sandmann  OK  
357/2243clippda 1.55.0  (landing page)Stephen Nyangoma  OK  
358/2243clipper 1.45.0  (landing page)Paolo Martini  OK  
359/2243cliProfiler 1.11.0  (landing page)You Zhou  OK  
360/2243Clomial 1.41.0  (landing page)Habil Zare  OK  
361/2243clst 1.53.0  (landing page)Noah Hoffman  WARNINGS  
362/2243clstutils 1.53.0  (landing page)Noah Hoffman  WARNINGS  
363/2243CluMSID 1.21.0  (landing page)Tobias Depke  ERROR  
364/2243ClustAll 1.1.0  (landing page)Asier Ortega-Legarreta  OK  
365/2243clustComp 1.33.0  (landing page)Aurora Torrente  OK  
366/2243clusterExperiment 2.25.0  (landing page)Elizabeth Purdom  TIMEOUT  
367/2243ClusterFoldSimilarity 1.1.0  (landing page)Oscar Gonzalez-Velasco  WARNINGS  
368/2243ClusterJudge 1.27.0  (landing page)Adrian Pasculescu  OK  
369/2243clusterProfiler 4.13.0  (landing page)Guangchuang Yu  OK  
370/2243clusterSeq 1.29.0  (landing page)Samuel Granjeaud  OK  
371/2243ClusterSignificance 1.33.0  (landing page)Jason T Serviss  OK  
372/2243clusterStab 1.77.0  (landing page)James W. MacDonald  OK  
373/2243clustifyr 1.17.0  (landing page)Kent Riemondy  OK  
374/2243ClustIRR 1.3.20  (landing page)Simo Kitanovski  ERROR  
375/2243CMA 1.63.0  (landing page)Roman Hornung  OK  
376/2243cmapR 1.17.0  (landing page)Ted Natoli  OK  
377/2243cn.farms 1.53.0  (landing page)Andreas Mitterecker  OK  
378/2243cn.mops 1.51.0  (landing page)Gundula Povysil  OK  
379/2243CNAnorm 1.51.0  (landing page)Stefano Berri  OK  
380/2243CNEr 1.41.0  (landing page)Ge Tan  ERROR  
381/2243CNORdt 1.47.0  (landing page)A. MacNamara  OK  
382/2243CNORfeeder 1.45.0  (landing page)Attila Gabor  WARNINGS  
383/2243CNORfuzzy 1.47.0  (landing page)T. Cokelaer  OK  
384/2243CNORode 1.47.0  (landing page)Attila Gabor  WARNINGS  
385/2243CNTools 1.61.0  (landing page)J. Zhang  OK  
386/2243CNVfilteR 1.19.0  (landing page)Jose Marcos Moreno-Cabrera  OK  
387/2243cnvGSA 1.49.0  (landing page)Joseph Lugo  OK  
388/2243CNViz 1.13.0  (landing page)Rebecca Greenblatt  OK  
389/2243CNVMetrics 1.9.0  (landing page)Astrid Deschênes  OK  
390/2243CNVPanelizer 1.37.0  (landing page)Thomas Wolf  OK  
391/2243CNVRanger 1.21.0  (landing page)Ludwig Geistlinger  ERROR  
392/2243CNVrd2 1.43.0  (landing page)Hoang Tan Nguyen  OK  
393/2243CoCiteStats 1.77.0  (landing page)Bioconductor Package Maintainer  OK  
394/2243COCOA 2.19.0  (landing page)John Lawson  OK  
395/2243codelink 1.73.0  (landing page)Diego Diez  OK  
396/2243CODEX 1.37.0  (landing page)Yuchao Jiang  OK  
397/2243CoGAPS 3.25.1  (landing page)Elana J. Fertig  OK  
398/2243cogena 1.39.0  (landing page)Zhilong Jia  WARNINGS  
399/2243cogeqc 1.9.0  (landing page)Fabrício Almeida-Silva  OK  
400/2243Cogito 1.11.0  (landing page)Annika Bürger  OK  
401/2243coGPS 1.49.0  (landing page)Yingying Wei  OK  
402/2243cola 2.11.0  (landing page)Zuguang Gu  OK  
403/2243comapr 1.9.0  (landing page)Ruqian Lyu  OK  
404/2243combi 1.17.0  (landing page)Stijn Hawinkel  OK  
405/2243coMET 1.37.0  (landing page)Tiphaine Martin  ERROR  
406/2243coMethDMR 1.9.0  (landing page)Fernanda Veitzman  OK  
407/2243COMPASS 1.43.0  (landing page)Greg Finak  OK  
408/2243compcodeR 1.41.0  (landing page)Charlotte Soneson  OK  
409/2243compEpiTools 1.39.0  (landing page)Mattia Furlan  OK  
410/2243ComplexHeatmap 2.21.0  (landing page)Zuguang Gu  OK  
411/2243CompoundDb 1.9.1  (landing page)Johannes Rainer  OK  
412/2243ComPrAn 1.13.0  (landing page)Petra Palenikova  OK  
413/2243compSPOT 1.3.0  (landing page)Sydney Grant  OK  
414/2243concordexR 1.5.0  (landing page)Kayla Jackson  OK  
415/2243condiments 1.13.0  (landing page)Hector Roux de Bezieux  OK  
416/2243CONFESS 1.33.0  (landing page)Diana LOW  WARNINGS  
417/2243consensus 1.23.0  (landing page)Tim Peters  OK  
418/2243ConsensusClusterPlus 1.69.0  (landing page)Matt Wilkerson  OK  
419/2243consensusDE 1.23.0  (landing page)Ashley J. Waardenberg  OK  
420/2243consensusOV 1.27.0  (landing page)Benjamin Haibe-Kains  ERROR  
421/2243consensusSeekeR 1.33.0  (landing page)Astrid Deschênes  OK  
422/2243consICA 2.3.0  (landing page)Petr V. Nazarov  OK  
423/2243CONSTANd 1.13.0  (landing page)Dirk Valkenborg  OK  
424/2243conumee 1.39.0  (landing page)Volker Hovestadt  OK  
425/2243convert 1.81.0  (landing page)Yee Hwa (Jean) Yang  OK  
426/2243copa 1.73.0  (landing page)James W. MacDonald  OK  
427/2243CopyNumberPlots 1.21.0  (landing page)Bernat Gel  OK  
428/2243coRdon 1.23.0  (landing page)Anamaria Elek  OK  
429/2243CoreGx 2.9.0  (landing page)Benjamin Haibe-Kains  OK  
430/2243Cormotif 1.51.0  (landing page)Yingying Wei  OK  
431/2243corral 1.15.0  (landing page)Lauren Hsu  OK  
432/2243coseq 1.29.0  (landing page)Andrea Rau  OK  
433/2243cosmiq 1.39.0  (landing page)David Fischer  ERROR  
434/2243cosmosR 1.13.0  (landing page)Attila Gabor  OK  
435/2243COSNet 1.39.0  (landing page)Marco Frasca  WARNINGS  
436/2243COTAN 2.5.6  (landing page)Galfrè Silvia Giulia  OK  
437/2243countsimQC 1.23.0  (landing page)Charlotte Soneson  OK  
438/2243covEB 1.31.0  (landing page)C. Pacini  OK  
439/2243CoverageView 1.43.0  (landing page)Ernesto Lowy  WARNINGS  
440/2243covRNA 1.31.0  (landing page)Lara Urban  OK  
441/2243cpvSNP 1.37.0  (landing page)Caitlin McHugh  OK  
442/2243cqn 1.51.0  (landing page)Kasper Daniel Hansen  OK  
443/2243CRImage 1.53.0  (landing page)Henrik Failmezger , Yinyin Yuan  OK  
444/2243CRISPRball 1.1.0  (landing page)Jared Andrews  OK  
445/2243crisprBase 1.9.0  (landing page)Jean-Philippe Fortin  OK  
446/2243crisprBowtie 1.9.0  (landing page)Jean-Philippe Fortin  OK  
447/2243crisprBwa 1.9.0  (landing page)Jean-Philippe Fortin  OK  
448/2243crisprDesign 1.7.0  (landing page)Jean-Philippe Fortin  OK  
449/2243crisprScore 1.9.0  (landing page)Jean-Philippe Fortin  OK  
450/2243CRISPRseek 1.45.0  (landing page)Lihua Julie Zhu  TIMEOUT  
451/2243crisprShiny 1.1.0  (landing page)Jean-Philippe Fortin  OK  
452/2243CrispRVariants 1.33.0  (landing page)Helen Lindsay  WARNINGS  
453/2243crisprVerse 1.7.0  (landing page)Jean-Philippe Fortin  OK  
454/2243crisprViz 1.7.0  (landing page)Jean-Philippe Fortin  OK  
455/2243crlmm 1.63.0  (landing page)Benilton S Carvalho  WARNINGS  
456/2243crossmeta 1.31.0  (landing page)Alex Pickering  OK  
457/2243CSAR 1.57.0  (landing page)Jose M Muino  OK  
458/2243csaw 1.39.0  (landing page)Aaron Lun  WARNINGS  
459/2243csdR 1.11.0  (landing page)Jakob Peder Pettersen  ERROR  
460/2243CSSQ 1.17.0  (landing page)Fan Lab at Georgia Institute of Technology  OK  
461/2243ctc 1.79.0  (landing page)Antoine Lucas  OK  
462/2243CTdata 1.5.0  (landing page)Laurent Gatto  OK  
463/2243CTDquerier 2.13.0  (landing page)Xavier Escribà-Montagut  WARNINGS  
464/2243CTexploreR 1.1.0  (landing page)Axelle Loriot  OK  
465/2243cTRAP 1.23.0  (landing page)Nuno Saraiva-Agostinho  ERROR  
466/2243ctsGE 1.31.0  (landing page)Michal Sharabi-Schwager  OK  
467/2243CTSV 1.7.0  (landing page)Jinge Yu Developer  OK  
468/2243cummeRbund 2.47.0  (landing page)Loyal A. Goff  WARNINGS  
469/2243CuratedAtlasQueryR 1.3.0  (landing page)Stefano Mangiola  ERROR  
470/2243customCMPdb 1.15.0  (landing page)Yuzhu Duan  ERROR  
471/2243customProDB 1.45.0  (landing page)Xiaojing Wang  WARNINGS  
472/2243cyanoFilter 1.13.0  (landing page)Oluwafemi Olusoji  OK  
473/2243cycle 1.59.0  (landing page)Matthias Futschik  OK  
474/2243cydar 1.29.0  (landing page)Aaron Lun  OK  
475/2243cypress 1.1.1  (landing page)Shilin Yu  OK  
476/2243CytoDx 1.25.0  (landing page)Zicheng Hu  OK  
477/2243CyTOFpower 1.11.0  (landing page)Anne-Maud Ferreira  ERROR  
478/2243cytofQC 1.5.0  (landing page)Jill Lundell  OK  
479/2243CytoGLMM 1.13.0  (landing page)Christof Seiler  OK  
480/2243cytoKernel 1.11.0  (landing page)Tusharkanti Ghosh  OK  
481/2243cytolib 2.17.0  (landing page)Mike Jiang  WARNINGS  
482/2243cytomapper 1.17.0  (landing page)Lasse Meyer  OK  
483/2243CytoMDS 1.1.0  (landing page)Philippe Hauchamps  OK  
484/2243cytoMEM 1.9.0  (landing page)Jonathan Irish  OK  
485/2243CytoML 2.17.0  (landing page)Mike Jiang  WARNINGS  
486/2243CytoPipeline 1.5.1  (landing page)Philippe Hauchamps  OK  
487/2243CytoPipelineGUI 1.3.0  (landing page)Philippe Hauchamps  OK  
488/2243cytoviewer 1.5.0  (landing page)Lasse Meyer  OK  
D
ABCDEFGHIJKLMNOPQRSTUVWXYZ
PackageMaintainerINSTALL/BUILD/CHECK
489/2243dada2 1.33.0  (landing page)Benjamin Callahan  WARNINGS  
490/2243dagLogo 1.43.0  (landing page)Jianhong Ou  OK  
491/2243daMA 1.77.0  (landing page)Jobst Landgrebe  OK  
492/2243DAMEfinder 1.17.0  (landing page)Stephany Orjuela  OK  
493/2243DaMiRseq 2.17.0  (landing page)Mattia Chiesa  OK  
494/2243Damsel 1.1.0  (landing page)Caitlin Page  OK  
495/2243DAPAR 1.37.0  (landing page)Samuel Wieczorek  OK  
496/2243dar 1.1.0  (landing page)Francesc Catala-Moll  ERROR  
497/2243DART 1.53.0  (landing page)Charles Shijie Zheng  OK  
498/2243dcanr 1.21.0  (landing page)Dharmesh D. Bhuva  OK  
499/2243DCATS 1.3.0  (landing page)Xinyi Lin  OK  
500/2243dce 1.13.0  (landing page)Kim Philipp Jablonski  OK  
501/2243dcGSA 1.33.0  (landing page)Jiehuan sun  WARNINGS  
502/2243ddCt 1.61.0  (landing page)Jitao David Zhang  WARNINGS  
503/2243ddPCRclust 1.25.0  (landing page)Benedikt G. Brink  OK  
504/2243dearseq 1.17.0  (landing page)Boris P. Hejblum  OK  
505/2243debCAM 1.23.0  (landing page)Lulu Chen  OK  
506/2243debrowser 1.33.0  (landing page)Alper Kucukural  OK  
507/2243DECIPHER 3.1.4  (landing page)Erik Wright  OK  
508/2243decompTumor2Sig 2.21.0  (landing page)Rosario M. Piro  TIMEOUT  
509/2243DeconRNASeq 1.47.0  (landing page)Ting Gong  OK  
510/2243decontam 1.25.0  (landing page)Benjamin Callahan  OK  
511/2243decontX 1.3.0  (landing page)Yuan Yin  WARNINGS  
512/2243deconvR 1.11.0  (landing page)Irem B. Gündüz  OK  
513/2243decoupleR 2.11.0  (landing page)Pau Badia-i-Mompel  ERROR  
514/2243DeepPINCS 1.13.0  (landing page)Dongmin Jung  ERROR  
515/2243deepSNV 1.51.0  (landing page)Moritz Gerstung  OK  
516/2243DeepTarget 0.99.21  (landing page)Trinh Nguyen  ERROR  
517/2243DEFormats 1.33.0  (landing page)Andrzej Oleś  OK  
518/2243DegCre 1.1.0  (landing page)Brian S. Roberts  OK  
519/2243DegNorm 1.15.0  (landing page)Ji-Ping Wang  OK  
520/2243DEGraph 1.57.0  (landing page)Laurent Jacob  OK  
521/2243DEGreport 1.41.1  (landing page)Lorena Pantano  OK  
522/2243DEGseq 1.59.0  (landing page)Likun Wang  WARNINGS  
523/2243DelayedArray 0.31.7  (landing page)Hervé Pagès  WARNINGS  
524/2243DelayedDataFrame 1.21.0  (landing page)Qian Liu  OK  
525/2243DelayedMatrixStats 1.27.1  (landing page)Peter Hickey  OK  
526/2243DelayedRandomArray 1.13.1  (landing page)Aaron Lun  OK  
527/2243DelayedTensor 1.11.0  (landing page)Koki Tsuyuzaki  ERROR  
528/2243DELocal 1.5.0  (landing page)Rishi Das Roy  OK  
529/2243deltaCaptureC 1.19.0  (landing page)Michael Shapiro  OK  
530/2243deltaGseg 1.45.0  (landing page)Diana Low  WARNINGS  
531/2243DeMAND 1.35.0  (landing page)Jung Hoon Woo , Mariano Alvarez  OK  
532/2243DeMixT 1.21.0  (landing page)Shuai Guo  WARNINGS  
533/2243demuxmix 1.7.0  (landing page)Hans-Ulrich Klein  OK  
534/2243demuxSNP 1.3.0  (landing page)Michael Lynch  OK  
535/2243densvis 1.15.0  (landing page)Alan O'Callaghan  ERROR  
536/2243DEP 1.27.0  (landing page)Arne Smits  WARNINGS  
537/2243DepecheR 1.21.3  (landing page)Jakob Theorell  OK  
538/2243DepInfeR 1.9.0  (landing page)Junyan Lu  OK  
539/2243DeProViR 1.1.0  (landing page)Matineh Rahmatbakhsh  ERROR  
540/2243DEqMS 1.23.0  (landing page)Yafeng Zhu  ERROR  
541/2243derfinder 1.39.0  (landing page)Leonardo Collado-Torres  OK  
542/2243derfinderHelper 1.39.0  (landing page)Leonardo Collado-Torres  OK  
543/2243derfinderPlot 1.39.0  (landing page)Leonardo Collado-Torres  OK  
544/2243DEScan2 1.25.0  (landing page)Dario Righelli  WARNINGS  
545/2243DESeq2 1.45.0  (landing page)Michael Love  OK  
546/2243DEsingle 1.25.0  (landing page)Zhun Miao  OK  
547/2243DESpace 1.5.0  (landing page)Peiying Cai  TIMEOUT  
548/2243destiny 3.19.0  (landing page)Philipp Angerer  OK  
549/2243DEsubs 1.31.0  (landing page)Aristidis G. Vrahatis , Panos Balomenos  WARNINGS  
550/2243DEWSeq 1.19.0  (landing page)bioinformatics team Hentze  OK  
551/2243DExMA 1.13.0  (landing page)Juan Antonio Villatoro-García  OK  
552/2243DEXSeq 1.51.0  (landing page)Alejandro Reyes  OK  
553/2243DFP 1.63.0  (landing page)Rodrigo Alvarez-Glez  OK  
554/2243DIAlignR 2.13.0  (landing page)Shubham Gupta  ERROR  
555/2243DiffBind 3.15.0  (landing page)Rory Stark  OK  
556/2243diffcoexp 1.25.0  (landing page)Wenbin Wei  OK  
557/2243diffcyt 1.25.0  (landing page)Lukas M. Weber  OK  
558/2243DifferentialRegulation 2.3.0  (landing page)Simone Tiberi  OK  
559/2243diffGeneAnalysis 1.87.0  (landing page)Choudary Jagarlamudi  OK  
560/2243diffHic 1.37.3  (landing page)Aaron Lun , Gordon Smyth , Hannah Coughlin  OK  
561/2243DiffLogo 2.29.0  (landing page)Hendrik Treutler  WARNINGS  
562/2243diffuStats 1.25.0  (landing page)Sergio Picart-Armada  OK  
563/2243diffUTR 1.13.0  (landing page)Pierre-Luc Germain  OK  
564/2243diggit 1.37.0  (landing page)Mariano J Alvarez  WARNINGS  
565/2243Dino 1.11.0  (landing page)Jared Brown  OK  
566/2243dinoR 1.1.0  (landing page)Michaela Schwaiger  OK  
567/2243dir.expiry 1.13.0  (landing page)Aaron Lun  OK  
568/2243Director 1.31.0  (landing page)Katherine Icay  TIMEOUT  
569/2243DirichletMultinomial 1.47.0  (landing page)Martin Morgan  WARNINGS  
570/2243discordant 1.29.0  (landing page)McGrath Max  OK  
571/2243DiscoRhythm 1.21.0  (landing page)Matthew Carlucci  OK  
572/2243distinct 1.17.0  (landing page)Simone Tiberi  OK  
573/2243dittoSeq 1.17.0  (landing page)Daniel Bunis  OK  
574/2243divergence 1.21.0  (landing page)Wikum Dinalankara , Luigi Marchionni  OK  
575/2243dks 1.51.0  (landing page)Jeffrey T. Leek  OK  
576/2243DMCFB 1.19.0  (landing page)Farhad Shokoohi  OK  
577/2243DMCHMM 1.27.0  (landing page)Farhad Shokoohi  WARNINGS  
578/2243DMRcaller 1.37.0  (landing page)Nicolae Radu Zabet  OK  
579/2243DMRcate 3.1.5  (landing page)Tim Peters  ERROR  
580/2243DMRScan 1.27.0  (landing page)Christian M Page  ERROR  
581/2243dmrseq 1.25.0  (landing page)Keegan Korthauer  OK  
582/2243DNABarcodeCompatibility 1.21.0  (landing page)Céline Trébeau  ERROR  
583/2243DNAcopy 1.79.0  (landing page)Venkatraman E. Seshan  OK  
584/2243DNAfusion 1.7.0  (landing page)Christoffer Trier Maansson  OK  
585/2243DNAshapeR 1.33.0  (landing page)Tsu-Pei Chiu  OK  
586/2243DominoEffect 1.25.0  (landing page)Marija Buljan  OK  
587/2243doppelgangR 1.33.0  (landing page)Levi Waldron  OK  
588/2243Doscheda 1.27.0  (landing page)Bruno Contrino  OK  
589/2243DOSE 3.31.2  (landing page)Guangchuang Yu  OK  
590/2243doseR 1.21.0  (landing page)ake.vastermark  OK  
591/2243doubletrouble 1.5.0  (landing page)Fabrício Almeida-Silva  OK  
592/2243drawProteins 1.25.0  (landing page)Paul Brennan  OK  
593/2243dreamlet 1.3.2  (landing page)Gabriel Hoffman  ERROR  
594/2243DRIMSeq 1.33.0  (landing page)Malgorzata Nowicka  WARNINGS  
595/2243DriverNet 1.45.0  (landing page)Jiarui Ding  OK  
596/2243DropletUtils 1.25.0  (landing page)Jonathan Griffiths  ERROR  
597/2243drugTargetInteractions 1.13.0  (landing page)Thomas Girke  OK  
598/2243DrugVsDisease 2.47.0  (landing page)j. Saez-Rodriguez  ERROR  
599/2243DSS 2.53.0  (landing page)Hao Wu , Hao Feng  WARNINGS  
600/2243dStruct 1.11.0  (landing page)Krishna Choudhary  OK  
601/2243DTA 2.51.0  (landing page)Bjoern Schwalb  OK  
602/2243Dune 1.17.0  (landing page)Hector Roux de Bezieux  ERROR  
603/2243dupRadar 1.35.0  (landing page)Sergi Sayols , Holger Klein  OK  
604/2243dyebias 1.65.0  (landing page)Philip Lijnzaad  OK  
605/2243DynDoc 1.83.0  (landing page)Bioconductor Package Maintainer  OK  
E
ABCDEFGHIJKLMNOPQRSTUVWXYZ
PackageMaintainerINSTALL/BUILD/CHECK
606/2243easier 1.11.0  (landing page)Oscar Lapuente-Santana  OK  
607/2243EasyCellType 1.7.0  (landing page)Ruoxing Li  OK  
608/2243easylift 1.3.0  (landing page)Abdullah Al Nahid  OK  
609/2243easyreporting 1.17.0  (landing page)Dario Righelli  OK  
610/2243easyRNASeq 2.41.0  (landing page)Nicolas Delhomme  ERROR  
611/2243EBarrays 2.69.0  (landing page)Ming Yuan  OK  
612/2243EBcoexpress 1.49.0  (landing page)John A. Dawson  WARNINGS  
613/2243EBImage 4.47.0  (landing page)Andrzej Oleś  OK  
614/2243EBSEA 1.33.0  (landing page)Arfa Mehmood  OK  
615/2243EBSeq 2.3.0  (landing page)Xiuyu Ma  WARNINGS  
616/2243ecolitk 1.77.0  (landing page)Laurent Gautier  WARNINGS  
617/2243EDASeq 2.39.0  (landing page)Davide Risso  OK  
618/2243edge 2.37.0  (landing page)John D. Storey , Andrew J. Bass  OK  
619/2243edgeR 4.3.4  (landing page)Yunshun Chen , Gordon Smyth , Aaron Lun , Mark Robinson  OK  
620/2243EDIRquery 1.5.0  (landing page)Laura D.T. Vo Ngoc  OK  
621/2243eds 1.7.0  (landing page)Avi Srivastava  OK  
622/2243EGAD 1.33.0  (landing page)Sara Ballouz  WARNINGS  
623/2243EGSEA 1.33.0  (landing page)Monther Alhamdoosh  OK  
624/2243eiR 1.45.0  (landing page)Thomas Girke  OK  
625/2243eisaR 1.17.0  (landing page)Michael Stadler  OK  
626/2243ELMER 2.29.0  (landing page)Tiago Chedraoui Silva  OK  
627/2243EMDomics 2.35.0  (landing page)Sadhika Malladi and Daniel Schmolze  OK  
628/2243EmpiricalBrownsMethod 1.33.0  (landing page)David Gibbs  OK  
629/2243EnhancedVolcano 1.23.0  (landing page)Kevin Blighe  OK  
630/2243enhancerHomologSearch 1.11.0  (landing page)Jianhong Ou  OK  
631/2243EnMCB 1.17.0  (landing page)Xin Yu  OK  
632/2243ENmix 1.41.2  (landing page)Zongli Xu  OK  
633/2243EnrichedHeatmap 1.35.0  (landing page)Zuguang Gu  OK  
634/2243EnrichmentBrowser 2.35.1  (landing page)Ludwig Geistlinger  OK  
635/2243enrichplot 1.25.0  (landing page)Guangchuang Yu  OK  
636/2243enrichViewNet 1.3.0  (landing page)Astrid Deschênes  OK  
637/2243ensembldb 2.29.0  (landing page)Johannes Rainer  OK  
638/2243epialleleR 1.13.0  (landing page)Oleksii Nikolaienko  OK  
639/2243EpiCompare 1.9.2  (landing page)Thomas Roberts  ERROR  
640/2243epidecodeR 1.13.0  (landing page)Kandarp Joshi  OK  
641/2243EpiDISH 2.21.1  (landing page)Shijie C. Zheng  OK  
642/2243epigenomix 1.45.0  (landing page)Hans-Ulrich Klein  OK  
643/2243epigraHMM 1.13.0  (landing page)Pedro Baldoni  WARNINGS  
644/2243EpiMix 1.7.1  (landing page)Yuanning Zheng  OK  
645/2243epimutacions 1.9.0  (landing page)Dolors Pelegri-Siso  OK  
646/2243epiNEM 1.29.0  (landing page)Martin Pirkl  OK  
647/2243epiregulon 1.1.2  (landing page)Xiaosai Yao  OK  
648/2243epiregulon.extra 1.1.1  (landing page)Xiaosai Yao  OK  
649/2243epistack 1.11.0  (landing page)DEVAILLY Guillaume  OK  
650/2243epistasisGA 1.7.0  (landing page)Michael Nodzenski  WARNINGS  
651/2243EpiTxDb 1.17.0  (landing page)Felix G.M. Ernst  ERROR  
652/2243epivizr 2.35.0  (landing page)Hector Corrada Bravo  OK  
653/2243epivizrChart 1.27.0  (landing page)Hector Corrada Bravo  OK  
654/2243epivizrData 1.33.0  (landing page)Hector Corrada Bravo  OK  
655/2243epivizrServer 1.33.0  (landing page)Hector Corrada Bravo  ERROR  
656/2243epivizrStandalone 1.33.0  (landing page)Hector Corrada Bravo  WARNINGS  
657/2243erccdashboard 1.39.0  (landing page)Sarah Munro  OK  
658/2243erma 1.21.0  (landing page)VJ Carey  OK  
659/2243ERSSA 1.23.0  (landing page)Zixuan Shao  OK  
660/2243esATAC 1.27.0  (landing page)Zheng Wei  ERROR  
661/2243escape 2.1.0  (landing page)Nick Borcherding  OK  
662/2243escheR 1.5.0  (landing page)Boyi Guo  ERROR  
663/2243esetVis 1.31.0  (landing page)Laure Cougnaud  OK  
664/2243eudysbiome 1.35.0  (landing page)Xiaoyuan Zhou  OK  
665/2243evaluomeR 1.21.6  (landing page)José Antonio Bernabé-Díaz  WARNINGS  
666/2243EventPointer 3.13.0  (landing page)Juan A. Ferrer-Bonsoms  OK  
667/2243EWCE 1.13.1  (landing page)Alan Murphy  OK  
668/2243ExCluster 1.23.0  (landing page)R. Matthew Tanner  OK  
669/2243ExiMiR 2.47.0  (landing page)Sylvain Gubian  OK  
670/2243ExperimentHub 2.13.0  (landing page)Bioconductor Package Maintainer  WARNINGS  
671/2243ExperimentHubData 1.31.0  (landing page)Bioconductor Package Maintainer  WARNINGS  
672/2243ExperimentSubset 1.15.0  (landing page)Irzam Sarfraz  OK  
673/2243ExploreModelMatrix 1.17.0  (landing page)Charlotte Soneson  OK  
674/2243ExpressionAtlas 1.33.0  (landing page)Pedro Madrigal  OK  
675/2243extraChIPs 1.9.1  (landing page)Stevie Pederson  OK  
F
ABCDEFGHIJKLMNOPQRSTUVWXYZ
PackageMaintainerINSTALL/BUILD/CHECK
676/2243fabia 2.51.0  (landing page)Andreas Mitterecker  WARNINGS  
677/2243factDesign 1.81.0  (landing page)Denise Scholtens  OK  
678/2243factR 1.7.0  (landing page)Fursham Hamid  OK  
679/2243faers 1.1.3  (landing page)Yun Peng  ERROR  
680/2243FamAgg 1.33.0  (landing page)Johannes Rainer  OK  
681/2243famat 1.15.0  (landing page)Mathieu Charles  OK  
682/2243fastLiquidAssociation 1.41.0  (landing page)Tina Gunderson  WARNINGS  
683/2243FastqCleaner 1.23.0  (landing page)Leandro Roser  OK  
684/2243fastreeR 1.9.0  (landing page)Anestis Gkanogiannis  OK  
685/2243fastseg 1.51.0  (landing page)Alexander Blume  OK  
686/2243fCCAC 1.31.0  (landing page)Pedro Madrigal  OK  
687/2243fCI 1.35.0  (landing page)Shaojun Tang  OK  
688/2243fcScan 1.19.0  (landing page)Pierre Khoueiry Abdullah El-Kurdi  OK  
689/2243fdrame 1.77.0  (landing page)Effi Kenigsberg  OK  
690/2243FEAST 1.13.0  (landing page)Kenong Su  OK  
691/2243FeatSeekR 1.5.0  (landing page)Tuemay Capraz  OK  
692/2243fedup 1.13.0  (landing page)Catherine Ross  OK  
693/2243FELLA 1.25.0  (landing page)Sergio Picart-Armada  ERROR  
694/2243fenr 1.3.1  (landing page)Marek Gierlinski  OK  
695/2243ffpe 1.49.0  (landing page)Levi Waldron  OK  
696/2243fgga 1.13.0  (landing page)Flavio Spetale  OK  
697/2243FGNet 3.39.0  (landing page)Sara Aibar  WARNINGS  
698/2243fgsea 1.31.0  (landing page)Alexey Sergushichev  WARNINGS  
699/2243FilterFFPE 1.15.0  (landing page)Lanying Wei  OK  
700/2243findIPs 1.1.0  (landing page)Shuo Wang  OK  
701/2243FindIT2 1.11.0  (landing page)Guandong Shang  OK  
702/2243FISHalyseR 1.39.0  (landing page)Karesh Arunakirinathan  WARNINGS  
703/2243fishpond 2.11.0  (landing page)Michael Love  ERROR  
704/2243FitHiC 1.31.0  (landing page)Ruyu Tan  OK  
705/2243flagme 1.61.0  (landing page)Mark Robinson , Riccardo Romoli  WARNINGS  
706/2243FLAMES 1.11.0  (landing page)Changqing Wang  ERROR  
707/2243flowAI 1.35.0  (landing page)Gianni Monaco  OK  
708/2243flowBeads 1.43.0  (landing page)Nikolas Pontikos  WARNINGS  
709/2243flowBin 1.41.0  (landing page)Kieran O'Neill  OK  
710/2243flowcatchR 1.39.0  (landing page)Federico Marini  OK  
711/2243flowCHIC 1.39.0  (landing page)Author: Joachim Schumann  OK  
712/2243flowClean 1.43.0  (landing page)Kipper Fletez-Brant  WARNINGS  
713/2243flowClust 3.43.0  (landing page)Greg Finak , Mike Jiang  WARNINGS  
714/2243flowCore 2.17.0  (landing page)Mike Jiang  WARNINGS  
715/2243flowCut 1.15.0  (landing page)Justin Meskas  OK  
716/2243flowCyBar 1.41.0  (landing page)Joachim Schumann  OK  
717/2243flowDensity 1.39.0  (landing page)Mehrnoush Malek  WARNINGS  
718/2243flowFP 1.63.0  (landing page)Herb Holyst , Wade Rogers  WARNINGS  
719/2243flowGate 1.5.0  (landing page)Andrew Wight  OK  
720/2243flowGraph 1.13.0  (landing page)Alice Yue  OK  
721/2243flowMatch 1.41.0  (landing page)Ariful Azad  OK  
722/2243flowMeans 1.65.0  (landing page)Nima Aghaeepour  OK  
723/2243flowMerge 2.53.0  (landing page)Greg Finak  WARNINGS  
724/2243flowPeaks 1.51.0  (landing page)Yongchao Ge  WARNINGS  
725/2243flowPloidy 1.31.0  (landing page)Tyler Smith  ERROR  
726/2243flowPlots 1.53.0  (landing page)N. Hawkins  OK  
727/2243FlowSOM 2.13.0  (landing page)Sofie Van Gassen  OK  
728/2243flowSpecs 1.19.0  (landing page)Jakob Theorell  OK  
729/2243flowStats 4.17.0  (landing page)Greg Finak , Mike Jiang  WARNINGS  
730/2243flowTime 1.29.0  (landing page)R. Clay Wright  OK  
731/2243flowTrans 1.57.0  (landing page)Greg Finak  OK  
732/2243flowViz 1.69.0  (landing page)Mike Jiang  OK  
733/2243flowVS 1.37.0  (landing page)Ariful Azad  OK  
734/2243flowWorkspace 4.17.0  (landing page)Greg Finak , Mike Jiang  WARNINGS  
735/2243fmcsR 1.47.0  (landing page)Thomas Girke  WARNINGS  
736/2243fmrs 1.15.0  (landing page)Farhad Shokoohi  OK  
737/2243fobitools 1.13.0  (landing page)Pol Castellano-Escuder  OK  
738/2243FRASER 2.1.0  (landing page)Christian Mertes  OK  
739/2243frenchFISH 1.17.0  (landing page)Adam Berman  OK  
740/2243FRGEpistasis 1.41.0  (landing page)Futao Zhang  OK  
741/2243frma 1.57.0  (landing page)Matthew N. McCall  OK  
742/2243frmaTools 1.57.0  (landing page)Matthew N. McCall  OK  
743/2243funOmics 0.99.8  (landing page)Elisa Gomez de Lope  OK  
744/2243funtooNorm 1.29.0  (landing page)Kathleen Klein  WARNINGS  
745/2243FuseSOM 1.7.0  (landing page)Elijah Willie  OK  
G
ABCDEFGHIJKLMNOPQRSTUVWXYZ
PackageMaintainerINSTALL/BUILD/CHECK
746/2243GA4GHclient 1.29.0  (landing page)Welliton Souza  OK  
747/2243GA4GHshiny 1.27.0  (landing page)Welliton Souza  OK  
748/2243gaga 2.51.0  (landing page)David Rossell  WARNINGS  
749/2243gage 2.55.0  (landing page)Weijun Luo  WARNINGS  
750/2243GAprediction 1.31.0  (landing page)Jon Bohlin  OK  
751/2243garfield 1.33.0  (landing page)Valentina Iotchkova  WARNINGS  
752/2243GARS 1.25.0  (landing page)Mattia Chiesa  OK  
753/2243GateFinder 1.25.0  (landing page)Nima Aghaeepour  WARNINGS  
754/2243gatom 1.3.0  (landing page)Alexey Sergushichev  ERROR  
755/2243GBScleanR 1.9.20  (landing page)Tomoyuki Furuta  ERROR  
756/2243gcapc 1.29.0  (landing page)Mingxiang Teng  OK  
757/2243gcatest 2.5.0  (landing page)Alejandro Ochoa  OK  
758/2243gCrisprTools 2.11.0  (landing page)Russell Bainer  OK  
759/2243gcrma 2.77.0  (landing page)Z. Wu  OK  
760/2243GDCRNATools 1.25.0  (landing page)Ruidong Li  OK  
761/2243gDNAx 1.3.0  (landing page)Robert Castelo  ERROR  
762/2243gDR 1.3.1  (landing page)Arkadiusz Gladki  OK  
763/2243gDRcore 1.3.3  (landing page)Arkadiusz Gladki  OK  
764/2243gDRimport 1.3.2  (landing page)Arkadiusz Gladki  OK  
765/2243gDRstyle 1.3.2  (landing page)Arkadiusz Gladki  OK  
766/2243gDRutils 1.3.4  (landing page)Arkadiusz Gladki  OK  
767/2243GDSArray 1.25.2  (landing page)Qian Liu  WARNINGS  
768/2243gdsfmt 1.41.0  (landing page)Xiuwen Zheng  OK  
769/2243GeDi 1.1.1  (landing page)Annekathrin Nedwed  OK  
770/2243GEM 1.31.0  (landing page)Hong Pan  OK  
771/2243gemini 1.19.0  (landing page)Sidharth Jain  OK  
772/2243gemma.R 3.1.9  (landing page)Ogan Mancarci  OK  
773/2243genArise 1.81.0  (landing page)IFC Development Team  WARNINGS  
774/2243geneAttribution 1.31.0  (landing page)Arthur Wuster  OK  
775/2243GeneBreak 1.35.0  (landing page)Evert van den Broek  OK  
776/2243geneClassifiers 1.29.0  (landing page)R Kuiper  OK  
777/2243GeneExpressionSignature 1.51.0  (landing page)Yang Cao  OK  
778/2243genefilter 1.87.0  (landing page)Bioconductor Package Maintainer  WARNINGS  
779/2243genefu 2.37.0  (landing page)Benjamin Haibe-Kains  ERROR  
780/2243GeneGA 1.55.0  (landing page)Zhenpeng Li  ERROR  
781/2243GeneGeneInteR 1.31.0  (landing page)Mathieu Emily  OK  
782/2243GeneMeta 1.77.0  (landing page)Bioconductor Package Maintainer  OK  
783/2243GeneNetworkBuilder 1.47.0  (landing page)Jianhong Ou  OK  
784/2243GeneOverlap 1.41.0  (landing page)António Miguel de Jesus Domingues, Max-Planck Institute for Cell Biology and Genetics  OK  
785/2243geneplast 1.31.0  (landing page)Mauro Castro  OK  
786/2243geneplotter 1.83.0  (landing page)Bioconductor Package Maintainer  OK  
787/2243geneRecommender 1.77.0  (landing page)Greg Hather  OK  
788/2243GeneRegionScan 1.61.0  (landing page)Lasse Folkersen  OK  
789/2243geneRxCluster 1.41.0  (landing page)Charles Berry  OK  
790/2243GeneSelectMMD 2.49.0  (landing page)Weiliang Qiu  WARNINGS  
791/2243GENESIS 2.35.0  (landing page)Stephanie M. Gogarten  OK  
792/2243GeneStructureTools 1.25.0  (landing page)Beth Signal  OK  
793/2243geNetClassifier 1.45.0  (landing page)Sara Aibar  OK  
794/2243GeneticsPed 1.67.0  (landing page)David Henderson  WARNINGS  
795/2243GeneTonic 2.9.0  (landing page)Federico Marini  OK  
796/2243geneXtendeR 1.31.0  (landing page)Bohdan Khomtchouk  WARNINGS  
797/2243GENIE3 1.27.0  (landing page)Van Anh Huynh-Thu  OK  
798/2243genoCN 1.57.0  (landing page)Wei Sun  WARNINGS  
799/2243genomation 1.37.0  (landing page)Altuna Akalin , Vedran Franke  WARNINGS  
800/2243GenomAutomorphism 1.7.0  (landing page)Robersy Sanchez  ERROR  
801/2243GenomeInfoDb 1.41.1  (landing page)Hervé Pagès  ERROR  
802/2243genomeIntervals 1.61.0  (landing page)Julien Gagneur  WARNINGS  
803/2243genomes 3.35.0  (landing page)Chris Stubben  ERROR  
804/2243GenomicAlignments 1.41.0  (landing page)Hervé Pagès  OK  
805/2243GenomicDataCommons 1.29.3  (landing page)Sean Davis  OK  
806/2243GenomicDistributions 1.13.0  (landing page)Kristyna Kupkova  OK  
807/2243GenomicFeatures 1.57.0  (landing page)H. Pagès  ERROR  
808/2243GenomicFiles 1.41.0  (landing page)Bioconductor Package Maintainer  WARNINGS  
809/2243genomicInstability 1.11.0  (landing page)Mariano Alvarez  OK  
810/2243GenomicInteractionNodes 1.9.0  (landing page)Jianhong Ou  OK  
811/2243GenomicInteractions 1.39.0  (landing page)Liz Ing-Simmons  OK  
812/2243GenomicOZone 1.19.0  (landing page)Hua Zhong, Mingzhou Song  OK  
813/2243GenomicPlot 1.3.3  (landing page)Shuye Pu  OK  
814/2243GenomicRanges 1.57.1  (landing page)Hervé Pagès  OK  
815/2243GenomicScores 2.17.0  (landing page)Robert Castelo  OK  
816/2243GenomicSuperSignature 1.13.0  (landing page)Sehyun Oh  WARNINGS  
817/2243GenomicTuples 1.39.0  (landing page)Peter Hickey  OK  
818/2243GenProSeq 1.9.0  (landing page)Dongmin Jung  ERROR  
819/2243GenVisR 1.37.0  (landing page)Zachary Skidmore  OK  
820/2243GeoDiff 1.11.0  (landing page)Nicole Ortogero  OK  
821/2243GEOexplorer 1.11.0  (landing page)Guy Hunt  WARNINGS  
822/2243GEOfastq 1.13.0  (landing page)Alex Pickering  OK  
823/2243GEOmetadb 1.67.0  (landing page)Jack Zhu  WARNINGS  
824/2243GeomxTools 3.9.0  (landing page)Maddy Griswold  ERROR  
825/2243GEOquery 2.73.0  (landing page)Sean Davis  OK  
826/2243GEOsubmission 1.57.0  (landing page)Alexandre Kuhn  OK  
827/2243GeoTcgaData 2.5.0  (landing page)Erqiang Hu  OK  
828/2243gep2pep 1.25.0  (landing page)Francesco Napolitano  OK  
829/2243gespeR 1.37.0  (landing page)Fabian Schmich  ERROR  
830/2243getDEE2 1.15.0  (landing page)Mark Ziemann  OK  
831/2243geva 1.13.0  (landing page)Itamar José Guimarães Nunes  OK  
832/2243GEWIST 1.49.0  (landing page)Wei Q. Deng  OK  
833/2243gg4way 1.3.0  (landing page)Benjamin I Laufer  OK  
834/2243ggbio 1.53.0  (landing page)Michael Lawrence  WARNINGS  
835/2243ggcyto 1.33.0  (landing page)Mike Jiang  WARNINGS  
836/2243ggkegg 1.3.2  (landing page)Noriaki Sato  OK  
837/2243ggmanh 1.9.7  (landing page)John Lee  OK  
838/2243ggmsa 1.11.0  (landing page)Lang Zhou  OK  
839/2243GGPA 1.17.0  (landing page)Dongjun Chung  WARNINGS  
840/2243ggsc 1.3.0  (landing page)Guangchuang Yu  OK  
841/2243ggseqalign 0.99.1  (landing page)Simeon Lim Rossmann  OK  
842/2243ggspavis 1.11.0  (landing page)Lukas M. Weber  OK  
843/2243ggtree 3.13.0  (landing page)Guangchuang Yu  OK  
844/2243ggtreeDendro 1.7.0  (landing page)Guangchuang Yu  OK  
845/2243ggtreeExtra 1.15.0  (landing page)Shuangbin Xu  OK  
846/2243ggtreeSpace 1.1.0  (landing page)Guangchuang Yu  OK  
847/2243GIGSEA 1.23.0  (landing page)Shijia Zhu  OK  
848/2243ginmappeR 1.1.2  (landing page)Fernando Sola  ERROR  
849/2243gINTomics 1.1.0  (landing page)Angelo Velle  OK  
850/2243girafe 1.57.0  (landing page)J. Toedling  OK  
851/2243GLAD 2.69.0  (landing page)Philippe Hupe  WARNINGS  
852/2243GladiaTOX 1.21.0  (landing page)PMP S.A. R Support  OK  
853/2243Glimma 2.15.0  (landing page)Shian Su  ERROR  
854/2243glmGamPoi 1.17.3  (landing page)Constantin Ahlmann-Eltze  ERROR  
855/2243glmSparseNet 1.23.0  (landing page)André Veríssimo  OK  
856/2243GlobalAncova 4.23.0  (landing page)Manuela Hummel  WARNINGS  
857/2243globalSeq 1.33.0  (landing page)Armin Rauschenberger  OK  
858/2243globaltest 5.59.0  (landing page)Jelle Goeman  TIMEOUT  
859/2243GloScope 1.3.0  (landing page)William Torous  OK  
860/2243gmapR 1.47.0  (landing page)Michael Lawrence  WARNINGS  
861/2243GmicR 1.19.0  (landing page)Richard Virgen-Slane  WARNINGS  
862/2243gmoviz 1.17.0  (landing page)Kathleen Zeglinski  OK  
863/2243GMRP 1.33.0  (landing page)Yuan-De Tan  WARNINGS  
864/2243GNET2 1.21.0  (landing page)Chen Chen  OK  
865/2243GNOSIS 1.3.0  (landing page)Lydia King  WARNINGS  
866/2243GOexpress 1.39.0  (landing page)Kevin Rue-Albrecht  WARNINGS  
867/2243GOfuncR 1.25.0  (landing page)Steffi Grote  OK  
868/2243GOpro 1.31.0  (landing page)Lidia Chrabaszcz  OK  
869/2243goProfiles 1.67.0  (landing page)Alex Sanchez  OK  
870/2243GOSemSim 2.31.0  (landing page)Guangchuang Yu  OK  
871/2243goseq 1.57.2  (landing page)Federico Marini  OK  
872/2243goSorensen 1.7.0  (landing page)Pablo Flores  OK  
873/2243goSTAG 1.29.0  (landing page)Brian D. Bennett  OK  
874/2243GOstats 2.71.0  (landing page)Bioconductor Package Maintainer  OK  
875/2243GOTHiC 1.41.0  (landing page)Borbala Mifsud  OK  
876/2243goTools 1.79.0  (landing page)Agnes Paquet  OK  
877/2243GPA 1.17.0  (landing page)Dongjun Chung  OK  
878/2243gpls 1.77.0  (landing page)Bioconductor Package Maintainer  WARNINGS  
879/2243gpuMagic 1.21.0  (landing page)Jiefei Wang  ERROR  
880/2243GrafGen 1.1.0  (landing page)William Wheeler  OK  
881/2243GRaNIE 1.9.1  (landing page)Christian Arnold  WARNINGS  
882/2243granulator 1.13.0  (landing page)Sabina Pfister  OK  
883/2243graper 1.21.0  (landing page)Britta Velten  WARNINGS  
884/2243graph 1.83.0  (landing page)Bioconductor Package Maintainer  OK  
885/2243GraphAlignment 1.69.0  (landing page)Joern P. Meier  WARNINGS  
886/2243GraphAT 1.77.0  (landing page)Thomas LaFramboise  OK  
887/2243graphite 1.51.0  (landing page)Gabriele Sales  OK  
888/2243GraphPAC 1.47.0  (landing page)Gregory Ryslik  OK  
889/2243GRENITS 1.57.0  (landing page)Edward Morrissey  OK  
890/2243GreyListChIP 1.37.0  (landing page)Matt Eldridge  OK  
891/2243GRmetrics 1.31.0  (landing page)Nicholas Clark , Mario Medvedovic  OK  
892/2243groHMM 1.39.0  (landing page)Tulip Nandu , W. Lee Kraus  WARNINGS  
893/2243GSALightning 1.33.0  (landing page)Billy Heung Wing Chang  OK  
894/2243GSAR 1.39.2  (landing page)Yasir Rahmatallah , Galina Glazko  OK  
895/2243GSCA 2.35.0  (landing page)Zhicheng Ji  OK  
896/2243gscreend 1.19.0  (landing page)Katharina Imkeller  OK  
897/2243GSEABase 1.67.0  (landing page)Bioconductor Package Maintainer  OK  
898/2243GSEABenchmarkeR 1.25.0  (landing page)Ludwig Geistlinger  OK  
899/2243GSEAlm 1.65.0  (landing page)Assaf Oron  OK  
900/2243GSEAmining 1.15.0  (landing page)Oriol Arqués  OK  
901/2243gsean 1.25.0  (landing page)Dongmin Jung  OK  
902/2243GSgalgoR 1.15.0  (landing page)Carlos Catania  ERROR  
903/2243GSReg 1.39.0  (landing page)Bahman Afsari , Elana J. Fertig  WARNINGS  
904/2243GSRI 2.53.0  (landing page)Julian Gehring  OK  
905/2243GSVA 1.53.4  (landing page)Robert Castelo  OK  
906/2243gtrellis 1.37.0  (landing page)Zuguang Gu  OK  
907/2243GUIDEseq 1.35.0  (landing page)Lihua Julie Zhu  OK  
908/2243Guitar 2.21.0  (landing page)Jia Meng  OK  
909/2243Gviz 1.49.0  (landing page)Robert Ivanek  OK  
910/2243GWAS.BAYES 1.15.1  (landing page)Jacob Williams  OK  
911/2243gwascat 2.37.0  (landing page)VJ Carey  ERROR  
912/2243GWASTools 1.51.0  (landing page)Stephanie M. Gogarten  OK  
913/2243gwasurvivr 1.23.0  (landing page)Abbas Rizvi  OK  
914/2243GWENA 1.15.0  (landing page)Gwenaëlle Lemoine  WARNINGS  
915/2243gypsum 1.1.6  (landing page)Aaron Lun  OK  
H
ABCDEFGHIJKLMNOPQRSTUVWXYZ
PackageMaintainerINSTALL/BUILD/CHECK
916/2243h5vc 2.39.0  (landing page)Paul Theodor Pyl  WARNINGS  
917/2243hapFabia 1.47.0  (landing page)Andreas Mitterecker  WARNINGS  
918/2243Harman 1.33.0  (landing page)Jason Ross  OK  
919/2243HarmonizR 1.3.0  (landing page)Simon Schlumbohm  OK  
920/2243Harshlight 1.77.0  (landing page)Maurizio Pellegrino  WARNINGS  
921/2243hca 1.13.0  (landing page)Martin Morgan  OK  
922/2243HDF5Array 1.33.3  (landing page)Hervé Pagès  WARNINGS  
923/2243HDTD 1.39.0  (landing page)Anestis Touloumis  OK  
924/2243hdxmsqc 1.1.1  (landing page)Oliver M. Crook  OK  
925/2243heatmaps 1.29.0  (landing page)Malcolm Perry  OK  
926/2243Heatplus 3.13.0  (landing page)Alexander Ploner  OK  
927/2243HelloRanges 1.31.0  (landing page)Michael Lawrence  OK  
928/2243HELP 1.63.0  (landing page)Reid F. Thompson  OK  
929/2243HEM 1.77.0  (landing page)HyungJun Cho  WARNINGS  
930/2243hermes 1.9.1  (landing page)Daniel Sabanés Bové  OK  
931/2243HERON 1.3.0  (landing page)Sean McIlwain  OK  
932/2243Herper 1.15.0  (landing page)Thomas Carroll  ERROR  
933/2243HGC 1.13.0  (landing page)XGlab  WARNINGS  
934/2243hiAnnotator 1.39.0  (landing page)Nirav V Malani  OK  
935/2243HIBAG 1.41.1  (landing page)Xiuwen Zheng  OK  
936/2243HicAggR 1.1.2  (landing page)Olivier Cuvier  WARNINGS  
937/2243HiCBricks 1.23.0  (landing page)Koustav Pal  OK  
938/2243HiCcompare 1.27.0  (landing page)Mikhail Dozmorov  OK  
939/2243HiCDCPlus 1.13.0  (landing page)Merve Sahin  OK  
940/2243HiCDOC 1.7.0  (landing page)Maigné Élise  OK  
941/2243HiCExperiment 1.5.0  (landing page)Jacques Serizay  OK  
942/2243HiContacts 1.7.0  (landing page)Jacques Serizay  OK  
943/2243HiCool 1.5.0  (landing page)Jacques Serizay  ERROR  
944/2243hicVennDiagram 1.3.0  (landing page)Jianhong Ou  OK  
945/2243hierGWAS 1.35.0  (landing page)Laura Buzdugan  WARNINGS  
946/2243hierinf 1.23.0  (landing page)Claude Renaux  OK  
947/2243HilbertCurve 1.35.0  (landing page)Zuguang Gu  OK  
948/2243HilbertVis 1.63.0  (landing page)Simon Anders  WARNINGS  
949/2243HilbertVisGUI 1.63.0  (landing page)Simon Anders  WARNINGS  
950/2243HiLDA 1.19.0  (landing page)Zhi Yang  OK  
951/2243hipathia 3.5.0  (landing page)Marta R. Hidalgo  ERROR  
952/2243HIPPO 1.17.0  (landing page)Tae Kim  OK  
953/2243hiReadsProcessor 1.41.0  (landing page)Nirav V Malani  OK  
954/2243HIREewas 1.23.0  (landing page)Xiangyu Luo  OK  
955/2243HiTC 1.49.0  (landing page)Nicolas Servant  WARNINGS  
956/2243hmdbQuery 1.25.0  (landing page)VJ Carey  OK  
957/2243HMMcopy 1.47.0  (landing page)Daniel Lai  WARNINGS  
958/2243HoloFoodR 0.99.8  (landing page)Tuomas Borman  OK  
959/2243hoodscanR 1.3.1  (landing page)Ning Liu  OK  
960/2243hopach 2.65.0  (landing page)Katherine S. Pollard  OK  
961/2243HPAanalyze 1.23.0  (landing page)Anh Nhat Tran  OK  
962/2243hpar 1.47.0  (landing page)Laurent Gatto  OK  
963/2243HPiP 1.11.0  (landing page)Matineh Rahmatbakhsh  OK  
964/2243HTqPCR 1.59.0  (landing page)Heidi Dvinge  ERROR  
965/2243HTSeqGenie 4.35.0  (landing page)Jens Reeder  OK  
966/2243HTSFilter 1.45.0  (landing page)Andrea Rau  OK  
967/2243HubPub 1.13.0  (landing page)Kayla Interdonato  OK  
968/2243hummingbird 1.15.0  (landing page)Eleni Adam  OK  
969/2243HybridExpress 1.1.0  (landing page)Fabricio Almeida-Silva  OK  
970/2243HybridMTest 1.49.0  (landing page)Demba Fofana  OK  
971/2243hypeR 2.3.0  (landing page)Anthony Federico  WARNINGS  
972/2243hyperdraw 1.57.0  (landing page)Paul Murrell  OK  
973/2243hypergraph 1.77.0  (landing page)Bioconductor Package Maintainer  OK  
I
ABCDEFGHIJKLMNOPQRSTUVWXYZ
PackageMaintainerINSTALL/BUILD/CHECK
974/2243iASeq 1.49.0  (landing page)Yingying Wei  OK  
975/2243iasva 1.23.0  (landing page)Donghyung Lee , Anthony Cheng  OK  
976/2243iBBiG 1.49.0  (landing page)Aedin Culhane  OK  
977/2243ibh 1.53.0  (landing page)Kircicegi Korkmaz  OK  
978/2243iBMQ 1.45.0  (landing page)Greg Imholte  OK  
979/2243iCARE 1.33.1  (landing page)Parichoy Pal Choudhury  WARNINGS  
980/2243Icens 1.77.0  (landing page)Bioconductor Package Maintainer  OK  
981/2243icetea 1.23.0  (landing page)Vivek Bhardwaj  WARNINGS  
982/2243iCheck 1.35.0  (landing page)Weiliang Qiu  OK  
983/2243iChip 1.59.0  (landing page)Qianxing Mo  WARNINGS  
984/2243iClusterPlus 1.41.0  (landing page)Qianxing Mo , Ronglai Shen  OK  
985/2243iCNV 1.25.0  (landing page)Zilu Zhou  WARNINGS  
986/2243iCOBRA 1.33.0  (landing page)Charlotte Soneson  OK  
987/2243ideal 1.29.0  (landing page)Federico Marini  OK  
988/2243IdeoViz 1.41.0  (landing page)Shraddha Pai  WARNINGS  
989/2243idiogram 1.81.0  (landing page)Karl J. Dykema  OK  
990/2243idpr 1.15.0  (landing page)William M. McFadden  OK  
991/2243idr2d 1.19.0  (landing page)Konstantin Krismer  ERROR  
992/2243IFAA 1.7.0  (landing page)Zhigang Li  OK  
993/2243iGC 1.35.0  (landing page)Liang-Bo Wang  OK  
994/2243IgGeneUsage 1.19.0  (landing page)Simo Kitanovski  OK  
995/2243igvR 1.25.0  (landing page)Arkadiusz Gladki  OK  
996/2243igvShiny 1.1.0  (landing page)Arkadiusz Gladki  ERROR  
997/2243IHW 1.33.0  (landing page)Nikos Ignatiadis  OK  
998/2243illuminaio 0.47.0  (landing page)Kasper Daniel Hansen  OK  
999/2243ILoReg 1.15.0  (landing page)Johannes Smolander  WARNINGS  
1000/2243IMAS 1.29.0  (landing page)Seonggyun Han  OK  
1001/2243imcRtools 1.11.0  (landing page)Daniel Schulz  ERROR  
1002/2243IMMAN 1.25.0  (landing page)Minoo Ashtiani  OK  
1003/2243immunoClust 1.37.3  (landing page)Till Soerensen  OK  
1004/2243immunotation 1.13.0  (landing page)Katharina Imkeller  OK  
1005/2243IMPCdata 1.41.0  (landing page)Jeremy Mason  OK  
1006/2243impute 1.79.0  (landing page)Balasubramanian Narasimhan  WARNINGS  
1007/2243INDEED 2.19.0  (landing page)Ressom group  OK  
1008/2243iNETgrate 1.3.0  (landing page)Habil Zare  OK  
1009/2243infercnv 1.21.0  (landing page)Christophe Georgescu  ERROR  
1010/2243infinityFlow 1.15.0  (landing page)Etienne Becht  OK  
1011/2243Informeasure 1.15.0  (landing page)Chu Pan  OK  
1012/2243InPAS 2.13.0  (landing page)Jianhong Ou  WARNINGS  
1013/2243INPower 1.41.0  (landing page)Bill Wheeler  OK  
1014/2243INSPEcT 1.35.0  (landing page)Stefano de Pretis  OK  
1015/2243INTACT 1.5.0  (landing page)Jeffrey Okamoto  OK  
1016/2243InTAD 1.25.0  (landing page)Konstantin Okonechnikov  OK  
1017/2243intansv 1.45.0  (landing page)Wen Yao  OK  
1018/2243interacCircos 1.15.0  (landing page)Zhe Cui  OK  
1019/2243InteractionSet 1.33.0  (landing page)Aaron Lun  OK  
1020/2243InteractiveComplexHeatmap 1.13.0  (landing page)Zuguang Gu  OK  
1021/2243interactiveDisplay 1.43.0  (landing page)Bioconductor Package Maintainer  OK  
1022/2243interactiveDisplayBase 1.43.0  (landing page)Bioconductor Package Maintainer  OK  
1023/2243InterCellar 2.11.0  (landing page)Marta Interlandi  OK  
1024/2243IntEREst 1.29.0  (landing page)Ali Oghabian , Mikko Frilander  OK  
1025/2243IntramiRExploreR 1.27.0  (landing page)Surajit Bhattacharya  WARNINGS  
1026/2243IONiseR 2.29.0  (landing page)Mike Smith  OK  
1027/2243iPAC 1.49.0  (landing page)Gregory Ryslik  ERROR  
1028/2243iPath 1.11.0  (landing page)Kenong Su  ERROR  
1029/2243ipdDb 1.23.0  (landing page)Steffen Klasberg  OK  
1030/2243IPO 1.31.0  (landing page)Thomas Lieb  ERROR  
1031/2243IRanges 2.39.1  (landing page)Hervé Pagès  WARNINGS  
1032/2243ISAnalytics 1.15.0  (landing page)Giulia Pais  OK  
1033/2243iSEE 2.17.1  (landing page)Kevin Rue-Albrecht  OK  
1034/2243iSEEde 1.3.0  (landing page)Kevin Rue-Albrecht  OK  
1035/2243iSEEfier 1.1.0  (landing page)Najla Abassi  ERROR  
1036/2243iSEEhex 1.7.0  (landing page)Kevin Rue-Albrecht  OK  
1037/2243iSEEhub 1.7.0  (landing page)Kevin Rue-Albrecht  OK  
1038/2243iSEEindex 1.3.0  (landing page)Kevin Rue-Albrecht  OK  
1039/2243iSEEpathways 1.3.0  (landing page)Kevin Rue-Albrecht  OK  
1040/2243iSEEu 1.17.0  (landing page)Kevin Rue-Albrecht  WARNINGS  
1041/2243iSeq 1.57.0  (landing page)Qianxing Mo  OK  
1042/2243ISLET 1.7.0  (landing page)Hao Feng  OK  
1043/2243isobar 1.51.0  (landing page)Florian P Breitwieser  WARNINGS  
1044/2243IsoBayes 1.3.2  (landing page)Simone Tiberi  OK  
1045/2243IsoCorrectoR 1.23.0  (landing page)Christian Kohler  OK  
1046/2243IsoCorrectoRGUI 1.21.0  (landing page)Christian Kohler  OK  
1047/2243IsoformSwitchAnalyzeR 2.5.0  (landing page)Kristoffer Vitting-Seerup  OK  
1048/2243ISoLDE 1.33.0  (landing page)Christelle Reynès  WARNINGS  
1049/2243isomiRs 1.33.1  (landing page)Lorena Pantano  OK  
1050/2243ITALICS 2.65.0  (landing page)Guillem Rigaill  OK  
1051/2243iterativeBMA 1.63.0  (landing page)Ka Yee Yeung  OK  
1052/2243iterativeBMAsurv 1.63.0  (landing page)Ka Yee Yeung  WARNINGS  
1053/2243IVAS 2.25.0  (landing page)Seonggyun Han  WARNINGS  
1054/2243ivygapSE 1.27.0  (landing page)VJ Carey  OK  
1055/2243IWTomics 1.29.0  (landing page)Marzia A Cremona  WARNINGS  
K
ABCDEFGHIJKLMNOPQRSTUVWXYZ
PackageMaintainerINSTALL/BUILD/CHECK
1056/2243karyoploteR 1.31.0  (landing page)Bernat Gel  OK  
1057/2243katdetectr 1.7.0  (landing page)Daan Hazelaar  OK  
1058/2243KBoost 1.13.0  (landing page)Luis F. Iglesias-Martinez  OK  
1059/2243KCsmart 2.63.0  (landing page)Jorma de Ronde  WARNINGS  
1060/2243kebabs 1.39.0  (landing page)Ulrich Bodenhofer  OK  
1061/2243KEGGgraph 1.65.0  (landing page)Jitao David Zhang  WARNINGS  
1062/2243KEGGlincs 1.31.0  (landing page)Shana White , Mario Medvedovic  OK  
1063/2243keggorthology 2.57.0  (landing page)VJ Carey  OK  
1064/2243KEGGREST 1.45.1  (landing page)Bioconductor Package Maintainer  OK  
1065/2243KinSwingR 1.23.0  (landing page)Ashley J. Waardenberg  OK  
1066/2243kissDE 1.25.0  (landing page)Aurélie Siberchicot  OK  
1067/2243KnowSeq 1.19.0  (landing page)Daniel Castillo-Secilla  OK  
1068/2243knowYourCG 1.1.0  (landing page)Goldberg David  OK  
L
ABCDEFGHIJKLMNOPQRSTUVWXYZ
PackageMaintainerINSTALL/BUILD/CHECK
1069/2243LACE 2.9.0  (landing page)Davide Maspero  OK  
1070/2243lapmix 1.71.0  (landing page)Yann Ruffieux  OK  
1071/2243LBE 1.73.0  (landing page)Cyril Dalmasso  OK  
1072/2243ldblock 1.35.0  (landing page)VJ Carey  OK  
1073/2243LEA 3.17.1  (landing page)Olivier Francois  OK  
1074/2243LedPred 1.39.0  (landing page)Aitor Gonzalez  OK  
1075/2243lefser 1.15.3  (landing page)Sehyun Oh  ERROR  
1076/2243lemur 1.3.2  (landing page)Constantin Ahlmann-Eltze  OK  
1077/2243les 1.55.0  (landing page)Julian Gehring  OK  
1078/2243levi 1.23.0  (landing page)Jose Luiz Rybarczyk Filho  WARNINGS  
1079/2243lfa 2.5.0  (landing page)Alejandro Ochoa  OK  
1080/2243limma 3.61.2  (landing page)Gordon Smyth  OK  
1081/2243limmaGUI 1.81.0  (landing page)Gordon Smyth  OK  
1082/2243limpca 1.1.0  (landing page)Manon Martin  OK  
1083/2243lineagespot 1.9.0  (landing page)Nikolaos Pechlivanis  OK  
1084/2243LinkHD 1.19.0  (landing page)"Laura M Zingaretti"  OK  
1085/2243Linnorm 2.29.0  (landing page)Shun Hang Yip  OK  
1086/2243LinTInd 1.9.0  (landing page)Luyue Wang  OK  
1087/2243lionessR 1.19.0  (landing page)Ping-Han Hsieh  OK  
1088/2243lipidr 2.19.0  (landing page)Ahmed Mohamed  OK  
1089/2243LiquidAssociation 1.59.0  (landing page)Yen-Yi Ho  OK  
1090/2243lisaClust 1.13.1  (landing page)Ellis Patrick  OK  
1091/2243lmdme 1.47.0  (landing page)Cristobal Fresno  WARNINGS  
1092/2243LOBSTAHS 1.31.0  (landing page)Henry Holm  WARNINGS  
1093/2243loci2path 1.25.0  (landing page)Tianlei Xu  OK  
1094/2243logicFS 2.25.0  (landing page)Holger Schwender  OK  
1095/2243LOLA 1.35.0  (landing page)Nathan Sheffield  OK  
1096/2243LoomExperiment 1.23.0  (landing page)Bioconductor Package Maintainer  OK  
1097/2243LPE 1.79.0  (landing page)Nitin Jain  OK  
1098/2243lpNet 2.37.0  (landing page)Lars Kaderali  WARNINGS  
1099/2243lpsymphony 1.33.0  (landing page)Vladislav Kim  WARNINGS  
1100/2243LRBaseDbi 2.15.0  (landing page)Koki Tsuyuzaki  OK  
1101/2243LRcell 1.13.0  (landing page)Wenjing Ma  OK  
1102/2243lumi 2.57.0  (landing page)Lei Huang  WARNINGS  
1103/2243lute 1.1.0  (landing page)Sean K Maden  OK  
1104/2243LymphoSeq 1.33.0  (landing page)David Coffey  OK  
M
ABCDEFGHIJKLMNOPQRSTUVWXYZ
PackageMaintainerINSTALL/BUILD/CHECK
1105/2243M3C 1.27.0  (landing page)Christopher John  OK  
1106/2243M3Drop 1.31.0  (landing page)Tallulah Andrews  OK  
1107/2243m6Aboost 1.11.0  (landing page)You Zhou  OK  
1108/2243Maaslin2 1.19.0  (landing page)Lauren McIver  OK  
1109/2243Macarron 1.9.1  (landing page)Sagun Maharjan  WARNINGS  
1110/2243maCorrPlot 1.75.0  (landing page)Alexander Ploner  OK  
1111/2243MACSQuantifyR 1.19.0  (landing page)Raphaël Bonnet  OK  
1112/2243MACSr 1.13.0  (landing page)Qiang Hu  OK  
1113/2243made4 1.79.0  (landing page)Aedin Culhane  OK  
1114/2243MADSEQ 1.31.0  (landing page)Yu Kong  OK  
1115/2243maftools 2.21.0  (landing page)Anand Mayakonda  WARNINGS  
1116/2243MAGAR 1.13.0  (landing page)Michael Scherer  OK  
1117/2243MAGeCKFlute 2.9.0  (landing page)Wubing Zhang  OK  
1118/2243magpie 1.5.0  (landing page)Daoyu Duan  WARNINGS  
1119/2243magrene 1.7.0  (landing page)Fabrício Almeida-Silva  OK  
1120/2243MAI 1.11.0  (landing page)Jonathan Dekermanjian  OK  
1121/2243MAIT 1.39.0  (landing page)Pol Sola-Santos  ERROR  
1122/2243makecdfenv 1.81.0  (landing page)James W. MacDonald  WARNINGS  
1123/2243MANOR 1.77.0  (landing page)Pierre Neuvial  WARNINGS  
1124/2243MantelCorr 1.75.0  (landing page)Brian Steinmeyer  OK  
1125/2243MAPFX 1.1.0  (landing page)Hsiao-Chi Liao  OK  
1126/2243maPredictDSC 1.43.0  (landing page)Adi Laurentiu Tarca  OK  
1127/2243mapscape 1.29.0  (landing page)Maia Smith  WARNINGS  
1128/2243mariner 1.5.0  (landing page)Eric Davis  OK  
1129/2243marr 1.15.0  (landing page)Tusharkanti Ghosh  OK  
1130/2243marray 1.83.0  (landing page)Yee Hwa (Jean) Yang  OK  
1131/2243martini 1.25.0  (landing page)Hector Climente-Gonzalez  OK  
1132/2243maser 1.23.0  (landing page)Diogo F.T. Veiga  OK  
1133/2243maSigPro 1.77.0  (landing page)Maria Jose Nueda  OK  
1134/2243maskBAD 1.49.0  (landing page)Michael Dannemann  OK  
1135/2243MassArray 1.57.0  (landing page)Reid F. Thompson  OK  
1136/2243massiR 1.41.0  (landing page)Sam Buckberry  OK  
1137/2243MassSpecWavelet 1.71.0  (landing page)Sergio Oller Moreno  OK  
1138/2243MAST 1.31.0  (landing page)Andrew McDavid  ERROR  
1139/2243mastR 1.5.0  (landing page)Jinjin Chen  OK  
1140/2243matchBox 1.47.0  (landing page)Luigi Marchionni , Anuj Gupta  OK  
1141/2243MatrixGenerics 1.17.0  (landing page)Peter Hickey  OK  
1142/2243MatrixQCvis 1.13.5  (landing page)Thomas Naake  OK  
1143/2243MatrixRider 1.37.0  (landing page)Elena Grassi  WARNINGS  
1144/2243matter 2.7.2  (landing page)Kylie A. Bemis  OK  
1145/2243MBAmethyl 1.39.0  (landing page)Tao Wang  OK  
1146/2243MBASED 1.39.0  (landing page)Oleg Mayba  OK  
1147/2243MBCB 1.59.0  (landing page)Bo Yao  OK  
1148/2243MBECS 1.9.0  (landing page)Michael Olbrich  OK  
1149/2243mbkmeans 1.21.0  (landing page)Davide Risso  OK  
1150/2243mBPCR 1.59.0  (landing page)P.M.V. Rancoita  OK  
1151/2243MBQN 2.17.0  (landing page)Eva Brombacher  OK  
1152/2243mbQTL 1.5.0  (landing page)Mercedeh Movassagh  OK  
1153/2243MBttest 1.33.0  (landing page)Yuan-De Tan  OK  
1154/2243MCbiclust 1.29.0  (landing page)Robert Bentham  OK  
1155/2243mCSEA 1.25.0  (landing page)Jordi Martorell-Marugán  OK  
1156/2243mdp 1.25.0  (landing page)Helder Nakaya  OK  
1157/2243mdqc 1.67.0  (landing page)Gabriela Cohen-Freue  OK  
1158/2243MDTS 1.25.0  (landing page)Jack M.. Fu  OK  
1159/2243MEAL 1.35.0  (landing page)Xavier Escribà Montagut  WARNINGS  
1160/2243MeasurementError.cor 1.77.0  (landing page)Beiying Ding  OK  
1161/2243MEAT 1.17.0  (landing page)Sarah Voisin  WARNINGS  
1162/2243MEB 1.19.0  (landing page)Jiadi Zhu  OK  
1163/2243MEDIPS 1.57.0  (landing page)Lukas Chavez  OK  
1164/2243MEDME 1.65.0  (landing page)Mattia Pelizzola  WARNINGS  
1165/2243megadepth 1.15.0  (landing page)David Zhang  OK  
1166/2243MEIGOR 1.39.0  (landing page)Jose A. Egea  OK  
1167/2243Melissa 1.21.0  (landing page)C. A. Kapourani  OK  
1168/2243memes 1.13.0  (landing page)Spencer Nystrom  WARNINGS  
1169/2243Mergeomics 1.33.0  (landing page)Zeyneb Kurt  OK  
1170/2243MeSHDbi 1.41.0  (landing page)Koki Tsuyuzaki  OK  
1171/2243meshes 1.31.0  (landing page)Guangchuang Yu  OK  
1172/2243meshr 2.11.0  (landing page)Koki Tsuyuzaki  OK  
1173/2243MesKit 1.15.0  (landing page)Mengni Liu  WARNINGS  
1174/2243messina 1.41.0  (landing page)Mark Pinese  WARNINGS  
1175/2243metabCombiner 1.15.2  (landing page)Hani Habra  OK  
1176/2243metabinR 1.7.0  (landing page)Anestis Gkanogiannis  OK  
1177/2243MetaboAnnotation 1.9.1  (landing page)Johannes Rainer  ERROR  
1178/2243MetaboCoreUtils 1.13.0  (landing page)Johannes Rainer  OK  
1179/2243metabolomicsWorkbenchR 1.15.2  (landing page)Gavin Rhys Lloyd  OK  
1180/2243metabomxtr 1.39.0  (landing page)Michael Nodzenski  OK  
1181/2243MetaboSignal 1.35.0  (landing page)Andrea Rodriguez-Martinez  OK  
1182/2243metaCCA 1.33.0  (landing page)Anna Cichonska  WARNINGS  
1183/2243MetaCyto 1.27.0  (landing page)Zicheng Hu  OK  
1184/2243metagene2 1.21.0  (landing page)Eric Fournier  WARNINGS  
1185/2243metagenomeSeq 1.47.0  (landing page)Joseph N. Paulson  OK  
1186/2243metahdep 1.63.0  (landing page)John R. Stevens  WARNINGS  
1187/2243metaMS 1.41.0  (landing page)Yann Guitton  OK  
1188/2243MetaNeighbor 1.25.0  (landing page)Stephan Fischer  OK  
1189/2243MetaPhOR 1.7.0  (landing page)Emily Isenhart  OK  
1190/2243metapod 1.13.0  (landing page)Aaron Lun  OK  
1191/2243metapone 1.11.0  (landing page)Tianwei Yu  OK  
1192/2243metaSeq 1.45.0  (landing page)Koki Tsuyuzaki  OK  
1193/2243metaseqR2 1.17.0  (landing page)Panagiotis Moulos  OK  
1194/2243MetCirc 1.35.0  (landing page)Thomas Naake  OK  
1195/2243methimpute 1.27.0  (landing page)Aaron Taudt  WARNINGS  
1196/2243methInheritSim 1.27.0  (landing page)Pascal Belleau  OK  
1197/2243methodical 1.1.0  (landing page)Richard Heery  ERROR  
1198/2243MethPed 1.33.0  (landing page)Helena Carén  OK  
1199/2243MethReg 1.15.0  (landing page)Tiago Silva  OK  
1200/2243methrix 1.19.0  (landing page)Anand Mayakonda  OK  
1201/2243MethTargetedNGS 1.37.0  (landing page)Muhammad Ahmer Jamil  OK  
1202/2243MethylAid 1.39.0  (landing page)L.J.Sinke  OK  
1203/2243methylCC 1.19.0  (landing page)Stephanie C. Hicks  OK  
1204/2243methylclock 1.11.0  (landing page)Dolors Pelegri-Siso  OK  
1205/2243methylGSA 1.23.0  (landing page)Xu Ren  OK  
1206/2243methyLImp2 1.1.0  (landing page)Anna Plaksienko  OK  
1207/2243methylInheritance 1.29.0  (landing page)Astrid Deschênes  OK  
1208/2243methylKit 1.31.0  (landing page)Altuna Akalin , Alexander Blume  OK  
1209/2243MethylMix 2.35.0  (landing page)Olivier Gevaert  OK  
1210/2243methylMnM 1.43.0  (landing page)Yan Zhou  OK  
1211/2243methylPipe 1.39.0  (landing page)Mattia Furlan  WARNINGS  
1212/2243methylscaper 1.13.0  (landing page)Rhonda Bacher  OK  
1213/2243MethylSeekR 1.45.0  (landing page)Lukas Burger  OK  
1214/2243methylSig 1.17.0  (landing page)Raymond G. Cavalcante  OK  
1215/2243methylumi 2.51.0  (landing page)Sean Davis  OK  
1216/2243MetID 1.23.0  (landing page)Zhenzhi Li  OK  
1217/2243MetNet 1.23.0  (landing page)Thomas Naake  OK  
1218/2243mfa 1.27.0  (landing page)Kieran Campbell  OK  
1219/2243Mfuzz 2.65.0  (landing page)Matthias Futschik  ERROR  
1220/2243MGFM 1.39.0  (landing page)Khadija El Amrani  OK  
1221/2243MGFR 1.31.0  (landing page)Khadija El Amrani  OK  
1222/2243MGnifyR 1.1.0  (landing page)Tuomas Borman  ERROR  
1223/2243mgsa 1.53.0  (landing page)Sebastian Bauer  WARNINGS  
1224/2243mia 1.13.27  (landing page)Tuomas Borman  OK  
1225/2243miaSim 1.11.0  (landing page)Yagmur Simsek  OK  
1226/2243miaViz 1.13.6  (landing page)Tuomas Borman  ERROR  
1227/2243MiChip 1.59.0  (landing page)Jonathon Blake  OK  
1228/2243microbiome 1.27.0  (landing page)Leo Lahti  ERROR  
1229/2243microbiomeDASim 1.19.0  (landing page)Justin Williams  OK  
1230/2243microbiomeExplorer 1.15.0  (landing page)Janina Reeder  OK  
1231/2243microbiomeMarker 1.11.0  (landing page)Yang Cao  ERROR  
1232/2243MicrobiomeProfiler 1.11.0  (landing page)Meijun Chen  OK  
1233/2243MicrobiotaProcess 1.17.0  (landing page)Shuangbin Xu  OK  
1234/2243microRNA 1.63.0  (landing page)"James F. Reid"  OK  
1235/2243microSTASIS 1.5.0  (landing page)Pedro Sánchez-Sánchez  ERROR  
1236/2243MICSQTL 1.3.2  (landing page)Qian Li  OK  
1237/2243midasHLA 1.13.0  (landing page)Maciej Migdał  ERROR  
1238/2243miloR 2.1.0  (landing page)Mike Morgan  ERROR  
1239/2243mimager 1.29.0  (landing page)Aaron Wolen  OK  
1240/2243mina 1.13.0  (landing page)Rui Guan  WARNINGS  
1241/2243MineICA 1.45.0  (landing page)Anne Biton  WARNINGS  
1242/2243minet 3.63.0  (landing page)Patrick E. Meyer  OK  
1243/2243minfi 1.51.0  (landing page)Kasper Daniel Hansen  OK  
1244/2243MinimumDistance 1.49.0  (landing page)Robert Scharpf  WARNINGS  
1245/2243MiPP 1.77.0  (landing page)Sukwoo Kim  OK  
1246/2243miQC 1.13.0  (landing page)Ariel Hippen  ERROR  
1247/2243MIRA 1.27.0  (landing page)John Lawson  OK  
1248/2243MiRaGE 1.47.0  (landing page)Y-h. Taguchi  WARNINGS  
1249/2243miRBaseConverter 1.29.0  (landing page)Taosheng Xu  ERROR  
1250/2243miRcomp 1.35.0  (landing page)Matthew N. McCall  WARNINGS  
1251/2243mirIntegrator 1.35.0  (landing page)Diana Diaz  OK  
1252/2243MIRit 1.1.0  (landing page)Jacopo Ronchi  ERROR  
1253/2243miRLAB 1.35.0  (landing page)Thuc Duy Le  WARNINGS  
1254/2243miRNAmeConverter 1.33.0  (landing page)Stefan J. Haunsberger  WARNINGS  
1255/2243miRNApath 1.65.0  (landing page)James M. Ward  OK  
1256/2243miRNAtap 1.39.0  (landing page)T. Ian Simpson  OK  
1257/2243miRSM 2.1.0  (landing page)Junpeng Zhang  OK  
1258/2243miRspongeR 2.9.0  (landing page)Junpeng Zhang  OK  
1259/2243mirTarRnaSeq 1.13.0  (landing page)Mercedeh Movassagh  OK  
1260/2243missMethyl 1.39.13  (landing page)Belinda Phipson  WARNINGS  
1261/2243missRows 1.25.0  (landing page)Gonzalez Ignacio  OK  
1262/2243mistyR 1.13.0  (landing page)Jovan Tanevski  ERROR  
1263/2243mitch 1.17.1  (landing page)Mark Ziemann  OK  
1264/2243mitoClone2 1.11.0  (landing page)Benjamin Story  WARNINGS  
1265/2243mixOmics 6.29.0  (landing page)Max Bladen  OK  
1266/2243MLInterfaces 1.85.0  (landing page)Vincent Carey  WARNINGS  
1267/2243MLP 1.53.0  (landing page)Tobias Verbeke  ERROR  
1268/2243MLSeq 2.23.0  (landing page)Gokmen Zararsiz  OK  
1269/2243MMDiff2 1.33.0  (landing page)Gabriele Schweikert  WARNINGS  
1270/2243MMUPHin 1.19.1  (landing page)Siyuan MA  OK  
1271/2243mnem 1.21.0  (landing page)Martin Pirkl  OK  
1272/2243moanin 1.13.0  (landing page)Nelle Varoquaux  OK  
1273/2243mobileRNA 1.1.1  (landing page)Katie Jeynes-Cupper  OK  
1274/2243MODA 1.31.0  (landing page)Dong Li  OK  
1275/2243ModCon 1.13.0  (landing page)Johannes Ptok  OK  
1276/2243Modstrings 1.21.0  (landing page)Felix G.M. Ernst  OK  
1277/2243MOFA2 1.15.0  (landing page)Ricard Argelaguet  WARNINGS  
1278/2243MOGAMUN 1.15.0  (landing page)Elva-María Novoa-del-Toro  ERROR  
1279/2243mogsa 1.39.0  (landing page)Chen Meng  OK  
1280/2243MoleculeExperiment 1.5.1  (landing page)Shila Ghazanfar  OK  
1281/2243MOMA 1.17.0  (landing page)Sunny Jones  OK  
1282/2243monaLisa 1.11.2  (landing page)Michael Stadler  OK  
1283/2243monocle 2.33.0  (landing page)Cole Trapnell  OK  
1284/2243Moonlight2R 1.3.0  (landing page)Matteo Tiberti  ERROR  
1285/2243MoonlightR 1.31.0  (landing page)Matteo Tiberti  OK  
1286/2243mosaics 2.43.0  (landing page)Dongjun Chung  OK  
1287/2243mosbi 1.11.0  (landing page)Tim Daniel Rose  WARNINGS  
1288/2243mosdef 1.1.0  (landing page)Federico Marini  OK  
1289/2243MOSim 2.1.0  (landing page)Sonia Tarazona  ERROR  
1290/2243Motif2Site 1.9.0  (landing page)Peyman Zarrineh  OK  
1291/2243motifbreakR 2.19.2  (landing page)Simon Gert Coetzee  ERROR  
1292/2243motifcounter 1.29.0  (landing page)Wolfgang Kopp  OK  
1293/2243MotifDb 1.47.0  (landing page)Paul Shannon  WARNINGS  
1294/2243motifmatchr 1.27.0  (landing page)Alicia Schep  OK  
1295/2243motifStack 1.49.1  (landing page)Jianhong Ou  OK  
1296/2243motifTestR 1.1.3  (landing page)Stevie Pederson  OK  
1297/2243MouseFM 1.15.0  (landing page)Matthias Munz  OK  
1298/2243MPAC 0.99.14  (landing page)Peng Liu  OK  
1299/2243MPFE 1.41.0  (landing page)Conrad Burden  OK  
1300/2243mpra 1.27.0  (landing page)Leslie Myint  OK  
1301/2243MPRAnalyze 1.23.0  (landing page)Tal Ashuach  OK  
1302/2243MQmetrics 1.13.0  (landing page)Alvaro Sanchez-Villalba  ERROR  
1303/2243msa 1.37.0  (landing page)Ulrich Bodenhofer  WARNINGS  
1304/2243MSA2dist 1.9.0  (landing page)Kristian K Ullrich  OK  
1305/2243MsBackendMassbank 1.13.0  (landing page)RforMassSpectrometry Package Maintainer  OK  
1306/2243MsBackendMgf 1.13.0  (landing page)RforMassSpectrometry Package Maintainer  OK  
1307/2243MsBackendMsp 1.9.0  (landing page)Johannes Rainer  OK  
1308/2243MsBackendRawFileReader 1.11.3  (landing page)Christian Panse  ERROR  
1309/2243MsBackendSql 1.5.0  (landing page)Johannes Rainer  OK  
1310/2243MsCoreUtils 1.17.0  (landing page)RforMassSpectrometry Package Maintainer  OK  
1311/2243MsDataHub 1.5.0  (landing page)Laurent Gatto  OK  
1312/2243MsExperiment 1.7.0  (landing page)Laurent Gatto  WARNINGS  
1313/2243MsFeatures 1.13.0  (landing page)Johannes Rainer  OK  
1314/2243msgbsR 1.29.0  (landing page)Benjamin Mayne  ERROR  
1315/2243msImpute 1.15.0  (landing page)Soroor Hediyeh-zadeh  OK  
1316/2243mslp 1.7.0  (landing page)Chunxuan Shao  ERROR  
1317/2243msmsEDA 1.43.0  (landing page)Josep Gregori  OK  
1318/2243msmsTests 1.43.0  (landing page)Josep Gregori i Font  OK  
1319/2243MSnbase 2.31.1  (landing page)Laurent Gatto  OK  
1320/2243MSnID 1.39.0  (landing page)Vlad Petyuk  ERROR  
1321/2243MSPrep 1.15.0  (landing page)Max McGrath  ERROR  
1322/2243msPurity 1.31.1  (landing page)Thomas N. Lawson  ERROR  
1323/2243msqrob2 1.13.0  (landing page)Lieven Clement  OK  
1324/2243MsQuality 1.5.0  (landing page)Thomas Naake  OK  
1325/2243MSstats 4.13.0  (landing page)Meena Choi  WARNINGS  
1326/2243MSstatsBig 1.3.0  (landing page)Mateusz Staniak  OK  
1327/2243MSstatsConvert 1.15.1  (landing page)Mateusz Staniak  OK  
1328/2243MSstatsLiP 1.11.0  (landing page)Devon Kohler  OK  
1329/2243MSstatsLOBD 1.13.0  (landing page)Devon Kohler  OK  
1330/2243MSstatsPTM 2.7.0  (landing page)Devon Kohler  WARNINGS  
1331/2243MSstatsQC 2.23.0  (landing page)Eralp Dogu  OK  
1332/2243MSstatsQCgui 1.25.0  (landing page)Eralp Dogu  OK  
1333/2243MSstatsShiny 1.7.2  (landing page)Devon Kohler  WARNINGS  
1334/2243MSstatsTMT 2.13.1  (landing page)Devon Kohler  OK  
1335/2243MuData 1.9.0  (landing page)Danila Bredikhin  OK  
1336/2243Mulcom 1.55.0  (landing page)Claudio Isella  WARNINGS  
1337/2243MultiAssayExperiment 1.31.4  (landing page)Marcel Ramos  OK  
1338/2243MultiBaC 1.15.0  (landing page)The package maintainer  OK  
1339/2243multiClust 1.35.0  (landing page)Nathan Lawlor  OK  
1340/2243multicrispr 1.15.0  (landing page)Aditya Bhagwat  OK  
1341/2243MultiDataSet 1.33.0  (landing page)Xavier Escribà Montagut  WARNINGS  
1342/2243multiGSEA 1.15.0  (landing page)Sebastian Canzler  ERROR  
1343/2243multiHiCcompare 1.23.0  (landing page)Mikhail Dozmorov  OK  
1344/2243MultiMed 2.27.0  (landing page)Simina M. Boca  OK  
1345/2243multiMiR 1.27.0  (landing page)Matt Mulvahill  OK  
1346/2243MultimodalExperiment 1.5.0  (landing page)Lucas Schiffer  OK  
1347/2243MultiRNAflow 1.3.0  (landing page)Rodolphe Loubaton  OK  
1348/2243multiscan 1.65.0  (landing page)Mizanur Khondoker  OK  
1349/2243multistateQTL 1.1.0  (landing page)Amelia Dunstone  ERROR  
1350/2243multiWGCNA 1.3.1  (landing page)Dario Tommasini  OK  
1351/2243multtest 2.61.0  (landing page)Katherine S. Pollard  WARNINGS  
1352/2243mumosa 1.13.0  (landing page)Aaron Lun  OK  
1353/2243MungeSumstats 1.13.1  (landing page)Alan Murphy  OK  
1354/2243muscat 1.19.0  (landing page)Helena L. Crowell  ERROR  
1355/2243muscle 3.47.0  (landing page)Alex T. Kalinka  WARNINGS  
1356/2243musicatk 1.15.0  (landing page)Joshua D. Campbell  ERROR  
1357/2243MutationalPatterns 3.15.0  (landing page)Mark van Roosmalen  ERROR  
1358/2243MVCClass 1.79.0  (landing page)Elizabeth Whalen  OK  
1359/2243MWASTools 1.29.0  (landing page)Andrea Rodriguez-Martinez , Rafael Ayala  OK  
1360/2243mygene 1.41.0  (landing page)Adam Mark, Cyrus Afrasiabi, Chunlei Wu  OK  
1361/2243myvariant 1.35.0  (landing page)Adam Mark, Chunlei Wu  OK  
1362/2243mzID 1.43.0  (landing page)Laurent Gatto  OK  
1363/2243mzR 2.39.0  (landing page)Steffen Neumann  WARNINGS  
N
ABCDEFGHIJKLMNOPQRSTUVWXYZ
PackageMaintainerINSTALL/BUILD/CHECK
1364/2243NADfinder 1.29.0  (landing page)Jianhong Ou  OK  
1365/2243NanoMethViz 3.1.5  (landing page)Shian Su  OK  
1366/2243NanoStringDiff 1.35.0  (landing page)tingting zhai ,hong wang  WARNINGS  
1367/2243NanoStringNCTools 1.13.0  (landing page)Maddy Griswold  OK  
1368/2243nanotatoR 1.21.0  (landing page)Surajit Bhattacharya  ERROR  
1369/2243NanoTube 1.11.0  (landing page)Caleb Class  OK  
1370/2243NBAMSeq 1.21.0  (landing page)Xu Ren  OK  
1371/2243ncdfFlow 2.51.0  (landing page)Mike Jiang  WARNINGS  
1372/2243ncGTW 1.19.0  (landing page)Chiung-Ting Wu  OK  
1373/2243NCIgraph 1.53.0  (landing page)Laurent Jacob  OK  
1374/2243ncRNAtools 1.15.0  (landing page)Lara Selles Vidal  OK  
1375/2243ndexr 1.27.0  (landing page)Florian Auer  OK  
1376/2243nearBynding 1.15.0  (landing page)Veronica Busa  OK  
1377/2243Nebulosa 1.15.0  (landing page)Jose Alquicira-Hernandez  OK  
1378/2243nempi 1.13.0  (landing page)Martin Pirkl  OK  
1379/2243NetActivity 1.7.0  (landing page)Carlos Ruiz-Arenas  OK  
1380/2243netboost 2.13.1  (landing page)Pascal Schlosser  WARNINGS  
1381/2243netDx 1.17.0  (landing page)Shraddha Pai  ERROR  
1382/2243nethet 1.37.0  (landing page)Nicolas Staedler  WARNINGS  
1383/2243netOmics 1.11.0  (landing page)Antoine Bodein  ERROR  
1384/2243netprioR 1.31.0  (landing page)Fabian Schmich  OK  
1385/2243netresponse 1.65.0  (landing page)Leo Lahti  OK  
1386/2243NetSAM 1.45.0  (landing page)Zhiao Shi  OK  
1387/2243netSmooth 1.25.0  (landing page)Jonathan Ronen  OK  
1388/2243netZooR 1.9.0  (landing page)Marouen Ben Guebila  ERROR  
1389/2243NeuCA 1.11.0  (landing page)Hao Feng  ERROR  
1390/2243NewWave 1.15.0  (landing page)Federico Agostinis  OK  
1391/2243ngsReports 2.7.0  (landing page)Stevie Pederson  OK  
1392/2243nipalsMCIA 1.3.0  (landing page)Maximilian Mattessich  OK  
1393/2243nnNorm 2.69.0  (landing page)Adi Laurentiu Tarca  OK  
1394/2243nnSVG 1.9.0  (landing page)Lukas M. Weber  OK  
1395/2243NOISeq 2.49.0  (landing page)Sonia Tarazona  OK  
1396/2243nondetects 2.35.0  (landing page)Valeriia Sherina  OK  
1397/2243NoRCE 1.17.0  (landing page)Gulden Olgun  OK  
1398/2243normalize450K 1.33.0  (landing page)Jonathan Alexander Heiss  OK  
1399/2243NormalyzerDE 1.23.0  (landing page)Jakob Willforss  OK  
1400/2243NormqPCR 1.51.0  (landing page)James Perkins  OK  
1401/2243normr 1.31.0  (landing page)Johannes Helmuth  WARNINGS  
1402/2243NPARC 1.17.0  (landing page)Nils Kurzawa  OK  
1403/2243npGSEA 1.41.0  (landing page)Jessica Larson  OK  
1404/2243NTW 1.55.0  (landing page)Yuanhua Liu  WARNINGS  
1405/2243nucleoSim 1.33.0  (landing page)Astrid Deschênes  OK  
1406/2243nucleR 2.37.0  (landing page)Alba Sala  WARNINGS  
1407/2243nuCpos 1.23.0  (landing page)Hiroaki Kato  OK  
1408/2243nullranges 1.11.0  (landing page)Michael Love  ERROR  
1409/2243NuPoP 2.13.0  (landing page)Ji-Ping Wang  OK  
O
ABCDEFGHIJKLMNOPQRSTUVWXYZ
PackageMaintainerINSTALL/BUILD/CHECK
1410/2243occugene 1.65.0  (landing page)Oliver Will  OK  
1411/2243OCplus 1.79.0  (landing page)Alexander Ploner  OK  
1412/2243octad 1.7.0  (landing page)E. Chekalin  OK  
1413/2243odseq 1.33.0  (landing page)José Jiménez  OK  
1414/2243OGRE 1.9.0  (landing page)Sven Berres  OK  
1415/2243oligo 1.69.2  (landing page)Benilton Carvalho  WARNINGS  
1416/2243oligoClasses 1.67.0  (landing page)Benilton Carvalho and Robert Scharpf  WARNINGS  
1417/2243OLIN 1.83.0  (landing page)Matthias Futschik  OK  
1418/2243OLINgui 1.79.0  (landing page)Matthias Futschik  OK  
1419/2243omada 1.7.0  (landing page)Sokratis Kariotis  OK  
1420/2243OmaDB 2.21.0  (landing page)Klara Kaleb , Adrian Altenhoff  OK  
1421/2243omicade4 1.45.0  (landing page)Chen Meng  OK  
1422/2243OmicCircos 1.43.0  (landing page)Ying Hu  WARNINGS  
1423/2243omicplotR 1.25.0  (landing page)Daniel Giguere  OK  
1424/2243omicRexposome 1.27.0  (landing page)Xavier Escribà Montagut  TIMEOUT  
1425/2243OMICsPCA 1.23.0  (landing page)Subhadeep Das  OK  
1426/2243omicsPrint 1.25.0  (landing page)Davy Cats  WARNINGS  
1427/2243omicsViewer 1.9.2  (landing page)Chen Meng  OK  
1428/2243Omixer 1.15.0  (landing page)Lucy Sinke  OK  
1429/2243OmnipathR 3.13.1  (landing page)Denes Turei  ERROR  
1430/2243ompBAM 1.9.0  (landing page)Alex Chit Hei Wong  OK  
1431/2243oncomix 1.27.0  (landing page)Daniel Pique  OK  
1432/2243oncoscanR 1.7.0  (landing page)Yann Christinat  OK  
1433/2243OncoScore 1.33.0  (landing page)Luca De Sano  OK  
1434/2243OncoSimulR 4.7.0  (landing page)Ramon Diaz-Uriarte  ERROR  
1435/2243onlineFDR 2.13.0  (landing page)David S. Robertson  ERROR  
1436/2243ontoProc 1.27.3  (landing page)Vincent Carey  ERROR  
1437/2243openCyto 2.17.1  (landing page)Mike Jiang  WARNINGS  
1438/2243openPrimeR 1.27.0  (landing page)Matthias Döring  OK  
1439/2243OpenStats 1.17.0  (landing page)Marina Kan  OK  
1440/2243oposSOM 2.23.0  (landing page)Henry Loeffler-Wirth  WARNINGS  
1441/2243oppar 1.33.0  (landing page)Soroor Hediyeh zadeh  WARNINGS  
1442/2243oppti 1.19.0  (landing page)Abdulkadir Elmas  WARNINGS  
1443/2243optimalFlow 1.17.0  (landing page)Hristo Inouzhe  OK  
1444/2243OPWeight 1.27.0  (landing page)Mohamad Hasan  OK  
1445/2243OrderedList 1.77.0  (landing page)Claudio Lottaz  OK  
1446/2243ORFhunteR 1.13.0  (landing page)Vasily V. Grinev  OK  
1447/2243ORFik 1.25.3  (landing page)Haakon Tjeldnes  ERROR  
1448/2243Organism.dplyr 1.33.0  (landing page)Martin Morgan  OK  
1449/2243OrganismDbi 1.47.0  (landing page)Bioconductor Package Maintainer  OK  
1450/2243orthogene 1.11.0  (landing page)Brian Schilder  OK  
1451/2243orthos 1.3.0  (landing page)Panagiotis Papasaikas  ERROR  
1452/2243OSAT 1.53.0  (landing page)Li Yan  OK  
1453/2243Oscope 1.35.0  (landing page)Ning Leng  OK  
1454/2243OTUbase 1.55.0  (landing page)Daniel Beck  OK  
1455/2243OUTRIDER 1.23.0  (landing page)Christian Mertes  OK  
1456/2243OutSplice 1.5.0  (landing page)Theresa Guo  OK  
1457/2243OVESEG 1.21.0  (landing page)Lulu Chen  OK  
P
ABCDEFGHIJKLMNOPQRSTUVWXYZ
PackageMaintainerINSTALL/BUILD/CHECK
1458/2243PAA 1.39.0  (landing page)Michael Turewicz , Martin Eisenacher  OK  
1459/2243packFinder 1.17.0  (landing page)Jack Gisby  OK  
1460/2243padma 1.15.1  (landing page)Andrea Rau  OK  
1461/2243PADOG 1.47.0  (landing page)Adi L. Tarca  OK  
1462/2243pageRank 1.15.0  (landing page)Hongxu Ding  OK  
1463/2243PAIRADISE 1.21.0  (landing page)Qiang Hu , Levon Demirdjian  OK  
1464/2243paircompviz 1.43.0  (landing page)Michal Burda  OK  
1465/2243pairedGSEA 1.5.0  (landing page)Søren Helweg Dam  OK  
1466/2243pairkat 1.11.0  (landing page)Max McGrath  OK  
1467/2243pandaR 1.37.0  (landing page)Joseph N. Paulson , Dan Schlauch  WARNINGS  
1468/2243panelcn.mops 1.27.0  (landing page)Gundula Povysil  OK  
1469/2243PanomiR 1.9.0  (landing page)Pourya Naderi  OK  
1470/2243panp 1.75.0  (landing page)Peter Warren  OK  
1471/2243PANR 1.51.0  (landing page)Xin Wang  OK  
1472/2243PanViz 1.7.0  (landing page)Luca Anholt  OK  
1473/2243pareg 1.9.0  (landing page)Kim Philipp Jablonski  ERROR  
1474/2243parglms 1.37.0  (landing page)VJ Carey  OK  
1475/2243parody 1.63.0  (landing page)Vince Carey  OK  
1476/2243partCNV 1.3.0  (landing page)Ziyi Li  OK  
1477/2243PAST 1.21.0  (landing page)Thrash Adam  WARNINGS  
1478/2243Path2PPI 1.35.0  (landing page)Oliver Philipp  OK  
1479/2243pathifier 1.43.0  (landing page)Assif Yitzhaky  OK  
1480/2243pathlinkR 1.1.12  (landing page)Travis Blimkie  OK  
1481/2243PathNet 1.45.0  (landing page)Ludwig Geistlinger  OK  
1482/2243PathoStat 1.31.0  (landing page)Solaiappan Manimaran  OK  
1483/2243pathRender 1.73.0  (landing page)Vince Carey  OK  
1484/2243pathview 1.45.0  (landing page)Weijun Luo  WARNINGS  
1485/2243pathwayPCA 1.21.0  (landing page)Gabriel Odom  OK  
1486/2243paxtoolsr 1.39.0  (landing page)Augustin Luna  ERROR  
1487/2243pcaExplorer 2.31.0  (landing page)Federico Marini  OK  
1488/2243pcaMethods 1.97.0  (landing page)Henning Redestig  OK  
1489/2243PCAN 1.33.0  (landing page)Matthew Page and Patrice Godard  OK  
1490/2243PCAtools 2.17.0  (landing page)Kevin Blighe  OK  
1491/2243PDATK 1.13.0  (landing page)Benjamin Haibe-Kains  ERROR  
1492/2243pdInfoBuilder 1.69.3  (landing page)Benilton Carvalho  OK  
1493/2243PeacoQC 1.15.0  (landing page)Annelies Emmaneel  OK  
1494/2243peakPantheR 1.19.0  (landing page)Arnaud Wolfer  ERROR  
1495/2243PECA 1.41.0  (landing page)Tomi Suomi  OK  
1496/2243peco 1.17.0  (landing page)Chiaowen Joyce Hsiao  OK  
1497/2243Pedixplorer 1.1.0  (landing page)Louis Le Nézet  OK  
1498/2243pengls 1.11.0  (landing page)Stijn Hawinkel  OK  
1499/2243PepsNMR 1.23.0  (landing page)Manon Martin  OK  
1500/2243pepStat 1.39.0  (landing page)Gregory C Imholte  OK  
1501/2243pepXMLTab 1.39.0  (landing page)Xiaojing Wang  OK  
1502/2243periodicDNA 1.15.0  (landing page)Jacques Serizay  WARNINGS  
1503/2243pfamAnalyzeR 1.5.0  (landing page)Kristoffer Vitting-Seerup  OK  
1504/2243pgca 1.29.0  (landing page)Gabriela Cohen-Freue  OK  
1505/2243pgxRpi 1.1.4  (landing page)Hangjia Zhao  OK  
1506/2243phantasus 1.25.2  (landing page)Alexey Sergushichev  ERROR  
1507/2243phantasusLite 1.3.0  (landing page)Alexey Sergushichev  OK  
1508/2243PharmacoGx 3.9.0  (landing page)Benjamin Haibe-Kains  OK  
1509/2243PhenoGeneRanker 1.13.0  (landing page)Cagatay Dursun  OK  
1510/2243phenomis 1.7.2  (landing page)Etienne A. Thevenot  OK  
1511/2243phenopath 1.29.0  (landing page)Kieran Campbell  OK  
1512/2243phenoTest 1.53.0  (landing page)Evarist Planet  OK  
1513/2243PhenStat 2.41.0  (landing page)Hamed Haselimashhadi  OK  
1514/2243philr 1.31.0  (landing page)Justin Silverman  ERROR  
1515/2243PhIPData 1.13.0  (landing page)Athena Chen  OK  
1516/2243phosphonormalizer 1.29.0  (landing page)Sohrab Saraei  OK  
1517/2243PhosR 1.15.0  (landing page)Taiyun Kim  OK  
1518/2243PhyloProfile 1.19.5  (landing page)Vinh Tran  OK  
1519/2243phyloseq 1.49.0  (landing page)Paul J. McMurdie  ERROR  
1520/2243Pi 2.17.0  (landing page)Hai Fang  ERROR  
1521/2243piano 2.21.0  (landing page)Leif Varemo Wigge  OK  
1522/2243pickgene 1.77.0  (landing page)Brian S. Yandell  WARNINGS  
1523/2243PICS 2.49.0  (landing page)Renan Sauteraud  WARNINGS  
1524/2243Pigengene 1.31.2  (landing page)Habil Zare  OK  
1525/2243PING 2.49.0  (landing page)Renan Sauteraud  WARNINGS  
1526/2243pipeComp 1.15.0  (landing page)Pierre-Luc Germain  OK  
1527/2243pipeFrame 1.21.0  (landing page)Zheng Wei  OK  
1528/2243PIPETS 1.1.3  (landing page)Quinlan Furumo  OK  
1529/2243Pirat 0.99.26  (landing page)Samuel Wieczorek  ERROR  
1530/2243PIUMA 1.1.1  (landing page)Mattia Chiesa  WARNINGS  
1531/2243planet 1.13.0  (landing page)Victor Yuan  OK  
1532/2243planttfhunter 1.5.0  (landing page)Fabrício Almeida-Silva  OK  
1533/2243plasmut 1.3.0  (landing page)Adith Arun  OK  
1534/2243plgem 1.77.0  (landing page)Norman Pavelka  OK  
1535/2243plier 1.75.0  (landing page)Crispin Miller  WARNINGS  
1536/2243plotgardener 1.11.3  (landing page)Nicole Kramer  ERROR  
1537/2243plotGrouper 1.23.0  (landing page)John D. Gagnon  ERROR  
1538/2243PLPE 1.65.0  (landing page)Soo-heang Eo  OK  
1539/2243PLSDAbatch 1.1.0  (landing page)Yiwen (Eva) Wang  OK  
1540/2243plyinteractions 1.3.1  (landing page)Jacques Serizay  OK  
1541/2243plyranges 1.25.0  (landing page)Michael Love  ERROR  
1542/2243pmm 1.37.0  (landing page)Anna Drewek  OK  
1543/2243pmp 1.17.0  (landing page)Gavin Rhys Lloyd  ERROR  
1544/2243PoDCall 1.13.0  (landing page)Hans Petter Brodal  OK  
1545/2243podkat 1.37.0  (landing page)Ulrich Bodenhofer  OK  
1546/2243pogos 1.25.0  (landing page)VJ Carey  OK  
1547/2243polyester 1.41.0  (landing page)Jack Fu , Jeff Leek  ERROR  
1548/2243POMA 1.15.0  (landing page)Pol Castellano-Escuder  OK  
1549/2243powerTCR 1.25.0  (landing page)Hillary Koch  WARNINGS  
1550/2243POWSC 1.13.0  (landing page)Kenong Su  OK  
1551/2243ppcseq 1.13.0  (landing page)Stefano Mangiola  OK  
1552/2243PPInfer 1.31.0  (landing page)Dongmin Jung  OK  
1553/2243pqsfinder 2.21.0  (landing page)Jiri Hon  WARNINGS  
1554/2243pram 1.21.1  (landing page)Peng Liu  OK  
1555/2243prebs 1.45.0  (landing page)Karolis Uziela  OK  
1556/2243preciseTAD 1.15.0  (landing page)Mikhail Dozmorov  OK  
1557/2243PREDA 1.51.0  (landing page)Francesco Ferrari  WARNINGS  
1558/2243preprocessCore 1.67.0  (landing page)Ben Bolstad  WARNINGS  
1559/2243primirTSS 1.23.0  (landing page)Pumin Li  WARNINGS  
1560/2243PrInCE 1.21.0  (landing page)Michael Skinnider  WARNINGS  
1561/2243proActiv 1.15.0  (landing page)Joseph Lee  OK  
1562/2243proBAMr 1.39.0  (landing page)Xiaojing Wang  OK  
1563/2243PROcess 1.81.0  (landing page)Xiaochun Li  OK  
1564/2243procoil 2.33.0  (landing page)Ulrich Bodenhofer  OK  
1565/2243proDA 1.19.0  (landing page)Constantin Ahlmann-Eltze  OK  
1566/2243profileplyr 1.21.0  (landing page)Tom Carroll , Doug Barrows  OK  
1567/2243profileScoreDist 1.33.0  (landing page)Paal O. Westermark  ERROR  
1568/2243progeny 1.27.0  (landing page)Aurélien Dugourd  OK  
1569/2243projectR 1.21.0  (landing page)Genevieve Stein-O'Brien  OK  
1570/2243pRoloc 1.45.1  (landing page)Laurent Gatto  OK  
1571/2243pRolocGUI 2.15.0  (landing page)Lisa Breckels  OK  
1572/2243PROMISE 1.57.0  (landing page)Stan Pounds , Xueyuan Cao  OK  
1573/2243PROPER 1.37.0  (landing page)Hao Wu  WARNINGS  
1574/2243PROPS 1.27.0  (landing page)Lichy Han  OK  
1575/2243Prostar 1.37.0  (landing page)Samuel Wieczorek  OK  
1576/2243proteinProfiles 1.45.0  (landing page)Julian Gehring  OK  
1577/2243ProteoDisco 1.11.0  (landing page)Job van Riet  WARNINGS  
1578/2243ProteoMM 1.23.0  (landing page)Yuliya V Karpievitch  OK  
1579/2243protGear 1.9.0  (landing page)Kennedy Mwai  OK  
1580/2243ProtGenerics 1.37.0  (landing page)Laurent Gatto  OK  
1581/2243psichomics 1.31.0  (landing page)Nuno Saraiva-Agostinho  ERROR  
1582/2243PSMatch 1.9.0  (landing page)Laurent Gatto  OK  
1583/2243psygenet2r 1.37.0  (landing page)Alba Gutierrez-Sacristan  OK  
1584/2243ptairMS 1.13.0  (landing page)camille Roquencourt  ERROR  
1585/2243puma 3.47.0  (landing page)Xuejun Liu  WARNINGS  
1586/2243PureCN 2.11.0  (landing page)Markus Riester  OK  
1587/2243pvac 1.53.0  (landing page)Jun Lu , Pierre R. Bushel  OK  
1588/2243pvca 1.45.0  (landing page)Jianying LI  OK  
1589/2243Pviz 1.39.0  (landing page)Renan Sauteraud  WARNINGS  
1590/2243pwalign 1.1.0  (landing page)Hervé Pagès  OK  
1591/2243PWMEnrich 4.41.0  (landing page)Diego Diez  OK  
Q
ABCDEFGHIJKLMNOPQRSTUVWXYZ
PackageMaintainerINSTALL/BUILD/CHECK
1592/2243qckitfastq 1.21.0  (landing page)August Guang  ERROR  
1593/2243qcmetrics 1.43.0  (landing page)Laurent Gatto  OK  
1594/2243QDNAseq 1.41.0  (landing page)Daoud Sie  OK  
1595/2243QFeatures 1.15.2  (landing page)Laurent Gatto  OK  
1596/2243qmtools 1.9.0  (landing page)Jaehyun Joo  OK  
1597/2243qpcrNorm 1.63.0  (landing page)Jessica Mar  OK  
1598/2243qpgraph 2.39.0  (landing page)Robert Castelo  WARNINGS  
1599/2243qPLEXanalyzer 1.23.0  (landing page)Ashley Sawle  OK  
1600/2243qsea 1.31.0  (landing page)Matthias Lienhard  WARNINGS  
1601/2243qsmooth 1.21.0  (landing page)Stephanie C. Hicks  WARNINGS  
1602/2243QSutils 1.23.0  (landing page)Mercedes Guerrero-Murillo  OK  
1603/2243qsvaR 1.9.0  (landing page)Hedia Tnani  OK  
1604/2243QTLExperiment 1.3.0  (landing page)Amelia Dunstone  OK  
1605/2243Qtlizer 1.19.0  (landing page)Matthias Munz  OK  
1606/2243quantiseqr 1.13.0  (landing page)Federico Marini  OK  
1607/2243quantro 1.39.0  (landing page)Stephanie Hicks  OK  
1608/2243quantsmooth 1.71.0  (landing page)Jan Oosting  OK  
1609/2243QuartPAC 1.37.0  (landing page)Gregory Ryslik  ERROR  
1610/2243QuasR 1.45.1  (landing page)Michael Stadler  WARNINGS  
1611/2243QuaternaryProd 1.39.0  (landing page)Carl Tony Fakhry  OK  
1612/2243QUBIC 1.33.0  (landing page)Yu Zhang  OK  
1613/2243qusage 2.39.0  (landing page)Christopher Bolen  OK  
1614/2243qvalue 2.37.0  (landing page)John D. Storey , Andrew J. Bass  OK  
R
ABCDEFGHIJKLMNOPQRSTUVWXYZ
PackageMaintainerINSTALL/BUILD/CHECK
1615/2243R3CPET 1.37.0  (landing page)Mohamed Nadhir Djekidel  WARNINGS  
1616/2243r3Cseq 1.51.0  (landing page)Supat Thongjuea or  OK  
1617/2243R453Plus1Toolbox 1.55.0  (landing page)Hans-Ulrich Klein  OK  
1618/2243R4RNA 1.33.0  (landing page)Daniel Lai  OK  
1619/2243RadioGx 2.9.0  (landing page)Benjamin Haibe-Kains  OK  
1620/2243raer 1.3.0  (landing page)Kent Riemondy  ERROR  
1621/2243RaggedExperiment 1.29.0  (landing page)Marcel Ramos  OK  
1622/2243RAIDS 1.3.0  (landing page)Pascal Belleau  OK  
1623/2243rain 1.39.0  (landing page)Paul F. Thaben  OK  
1624/2243ramr 1.13.0  (landing page)Oleksii Nikolaienko  ERROR  
1625/2243ramwas 1.29.0  (landing page)Andrey A Shabalin  OK  
1626/2243RandomWalkRestartMH 1.25.0  (landing page)Alberto Valdeolivas  ERROR  
1627/2243randPack 1.51.0  (landing page)Robert Gentleman  OK  
1628/2243randRotation 1.17.0  (landing page)Peter Hettegger  ERROR  
1629/2243RankProd 3.31.0  (landing page)Francesco Del Carratore  OK  
1630/2243RAREsim 1.9.0  (landing page)Ryan Barnard  OK  
1631/2243RareVariantVis 2.33.0  (landing page)Tomasz Stokowy  OK  
1632/2243Rarr 1.5.0  (landing page)Mike Smith  OK  
1633/2243rawDiag 1.1.4  (landing page)Christian Panse  ERROR  
1634/2243rawrr 1.13.0  (landing page)Christian Panse  ERROR  
1635/2243RbcBook1 1.73.0  (landing page)Vince Carey  OK  
1636/2243Rbec 1.13.0  (landing page)Pengfan Zhang  ERROR  
1637/2243RBGL 1.81.0  (landing page)Bioconductor Package Maintainer  WARNINGS  
1638/2243RBioFormats 1.5.1  (landing page)Andrzej Oleś  OK  
1639/2243RBioinf 1.65.0  (landing page)Robert Gentleman  OK  
1640/2243rBiopaxParser 2.45.0  (landing page)Frank Kramer  OK  
1641/2243rBLAST 1.1.1  (landing page)Michael Hahsler  OK  
1642/2243RBM 1.37.0  (landing page)Dongmei Li  OK  
1643/2243Rbowtie 1.45.0  (landing page)Michael Stadler  WARNINGS  
1644/2243Rbowtie2 2.11.0  (landing page)Zheng Wei  ERROR  
1645/2243rbsurv 2.63.0  (landing page)Soo-heang Eo  OK  
1646/2243Rbwa 1.9.0  (landing page)Jean-Philippe Fortin  WARNINGS  
1647/2243RCAS 1.31.0  (landing page)Bora Uyar  OK  
1648/2243RCASPAR 1.51.0  (landing page)Douaa Mugahid , Lars Kaderali  OK  
1649/2243rcellminer 2.27.0  (landing page)Augustin Luna , Vinodh Rajapakse  WARNINGS  
1650/2243rCGH 1.35.0  (landing page)Frederic Commo  OK  
1651/2243RcisTarget 1.25.0  (landing page)Gert Hulselmans  OK  
1652/2243RCM 1.21.0  (landing page)Stijn Hawinkel  OK  
1653/2243Rcollectl 1.5.0  (landing page)Vincent Carey  ERROR  
1654/2243Rcpi 1.41.0  (landing page)Nan Xiao  OK  
1655/2243RCSL 1.13.0  (landing page)Qinglin Mei  OK  
1656/2243Rcwl 1.21.1  (landing page)Qiang Hu  OK  
1657/2243RcwlPipelines 1.21.0  (landing page)Qiang Hu  OK  
1658/2243RCX 1.9.0  (landing page)Florian Auer  OK  
1659/2243RCy3 2.25.1  (landing page)Alex Pico  OK  
1660/2243RCyjs 2.27.1  (landing page)Paul Shannon  WARNINGS  
1661/2243rDGIdb 1.31.1  (landing page)Lars Bosshard  ERROR  
1662/2243Rdisop 1.65.1  (landing page)Steffen Neumann  WARNINGS  
1663/2243RDRToolbox 1.55.0  (landing page)Christoph Bartenhagen  OK  
1664/2243ReactomeContentService4R 1.13.0  (landing page)Chi-Lam Poon  OK  
1665/2243ReactomeGraph4R 1.13.0  (landing page)Chi-Lam Poon  OK  
1666/2243ReactomeGSA 1.19.0  (landing page)Johannes Griss  OK  
1667/2243ReactomePA 1.49.0  (landing page)Guangchuang Yu  OK  
1668/2243ReadqPCR 1.51.0  (landing page)James Perkins  OK  
1669/2243REBET 1.23.0  (landing page)Bill Wheeler  WARNINGS  
1670/2243rebook 1.15.0  (landing page)Aaron Lun  WARNINGS  
1671/2243receptLoss 1.17.0  (landing page)Daniel Pique  OK  
1672/2243reconsi 1.17.0  (landing page)Stijn Hawinkel  OK  
1673/2243recount 1.31.2  (landing page)Leonardo Collado-Torres  ERROR  
1674/2243recount3 1.15.0  (landing page)Leonardo Collado-Torres  ERROR  
1675/2243recountmethylation 1.15.0  (landing page)Sean K Maden  OK  
1676/2243recoup 1.33.0  (landing page)Panagiotis Moulos  OK  
1677/2243RedeR 3.1.0  (landing page)Mauro Castro  OK  
1678/2243RedisParam 1.7.0  (landing page)Martin Morgan  OK  
1679/2243REDseq 1.51.0  (landing page)Lihua Julie Zhu  OK  
1680/2243RegEnrich 1.15.0  (landing page)Weiyang Tao  OK  
1681/2243regionalpcs 1.3.0  (landing page)Tiffany Eulalio  OK  
1682/2243RegionalST 1.3.0  (landing page)Ziyi Li  OK  
1683/2243regioneR 1.37.0  (landing page)Bernat Gel  OK  
1684/2243regioneReloaded 1.7.0  (landing page)Roberto Malinverni  OK  
1685/2243regionReport 1.39.0  (landing page)Leonardo Collado-Torres  OK  
1686/2243regsplice 1.31.0  (landing page)Lukas M. Weber  OK  
1687/2243regutools 1.17.0  (landing page)Joselyn Chavez  OK  
1688/2243REMP 1.29.0  (landing page)Yinan Zheng  ERROR  
1689/2243Repitools 1.51.0  (landing page)Mark Robinson  WARNINGS  
1690/2243ReportingTools 2.45.0  (landing page)Jason A. Hackney , Gabriel Becker  OK  
1691/2243RepViz 1.21.0  (landing page)Thomas Faux, Asta Laiho   WARNINGS  
1692/2243ResidualMatrix 1.15.1  (landing page)Aaron Lun  OK  
1693/2243RESOLVE 1.7.0  (landing page)Luca De Sano  OK  
1694/2243retrofit 1.5.0  (landing page)Adam Park  OK  
1695/2243ReUseData 1.5.0  (landing page)Qian Liu  OK  
1696/2243rexposome 1.27.0  (landing page)Xavier Escribà Montagut  WARNINGS  
1697/2243rfaRm 1.17.0  (landing page)Lara Selles Vidal  OK  
1698/2243Rfastp 1.15.0  (landing page)Thomas Carroll  WARNINGS  
1699/2243rfPred 1.43.0  (landing page)Hugo Varet  OK  
1700/2243rGADEM 2.53.0  (landing page)Arnaud Droit  WARNINGS  
1701/2243rGenomeTracks 1.11.0  (landing page)Omar Elashkar  OK  
1702/2243RGMQL 1.25.0  (landing page)Simone Pallotta  ERROR  
1703/2243RgnTX 1.7.0  (landing page)Yue Wang  OK  
1704/2243rgoslin 1.9.0  (landing page)Nils Hoffmann  OK  
1705/2243RGraph2js 1.33.0  (landing page)Stephane Cano  OK  
1706/2243Rgraphviz 2.49.0  (landing page)Kasper Daniel Hansen  WARNINGS  
1707/2243rGREAT 2.7.0  (landing page)Zuguang Gu  OK  
1708/2243RGSEA 1.39.0  (landing page)Chengcheng Ma  OK  
1709/2243rgsepd 1.37.0  (landing page)Karl Stamm  OK  
1710/2243rhdf5 2.49.0  (landing page)Mike Smith  WARNINGS  
1711/2243rhdf5client 1.27.1  (landing page)Vincent Carey  OK  
1712/2243rhdf5filters 1.17.0  (landing page)Mike Smith  OK  
1713/2243Rhdf5lib 1.27.0  (landing page)Mike Smith  WARNINGS  
1714/2243Rhisat2 1.21.0  (landing page)Charlotte Soneson  WARNINGS  
1715/2243Rhtslib 3.1.0  (landing page)Hervé Pagès  OK  
1716/2243RiboCrypt 1.11.0  (landing page)Michal Swirski  OK  
1717/2243RiboDiPA 1.13.0  (landing page)Ji-Ping Wang  OK  
1718/2243RiboProfiling 1.35.0  (landing page)A. Popa  WARNINGS  
1719/2243ribor 1.17.0  (landing page)Michael Geng  OK  
1720/2243riboSeqR 1.39.0  (landing page)Samuel Granjeaud  OK  
1721/2243ribosomeProfilingQC 1.17.0  (landing page)Jianhong Ou  OK  
1722/2243rifi 1.9.0  (landing page)Jens Georg  WARNINGS  
1723/2243rifiComparative 1.5.0  (landing page)Loubna Youssar  OK  
1724/2243RImmPort 1.33.0  (landing page)Zicheng Hu , Ravi Shankar  OK  
1725/2243Risa 1.47.0  (landing page)Alejandra Gonzalez-Beltran  ERROR  
1726/2243RITAN 1.29.0  (landing page)Michael Zimmermann  WARNINGS  
1727/2243RIVER 1.29.0  (landing page)Yungil Kim  OK  
1728/2243RJMCMCNucleosomes 1.29.0  (landing page)Astrid Deschênes  OK  
1729/2243RLassoCox 1.13.0  (landing page)Wei Liu  OK  
1730/2243RLMM 1.67.0  (landing page)Nusrat Rabbee  OK  
1731/2243Rmagpie 1.61.0  (landing page)Camille Maumet  OK  
1732/2243RMassBank 3.15.1  (landing page)RMassBank at Eawag  OK  
1733/2243rmelting 1.21.0  (landing page)J. Aravind  OK  
1734/2243Rmmquant 1.23.0  (landing page)Zytnicki Matthias  OK  
1735/2243rmspc 1.11.0  (landing page)Meriem Bahda  ERROR  
1736/2243RNAAgeCalc 1.17.0  (landing page)Xu Ren  OK  
1737/2243RNAdecay 1.25.0  (landing page)Reed Sorenson  OK  
1738/2243rnaEditr 1.15.0  (landing page)Lanyu Zhang  WARNINGS  
1739/2243RNAinteract 1.53.0  (landing page)Mike Smith  ERROR  
1740/2243RNAmodR 1.19.0  (landing page)Felix G.M. Ernst  OK  
1741/2243RNAmodR.AlkAnilineSeq 1.19.0  (landing page)Felix G.M. Ernst  OK  
1742/2243RNAmodR.ML 1.19.0  (landing page)Felix G.M. Ernst  OK  
1743/2243RNAmodR.RiboMethSeq 1.19.0  (landing page)Felix G.M. Ernst  OK  
1744/2243RNAsense 1.19.0  (landing page)Marcus Rosenblatt  WARNINGS  
1745/2243rnaseqcomp 1.35.0  (landing page)Mingxiang Teng  OK  
1746/2243RNAseqCovarImpute 1.3.0  (landing page)Brennan Baker  OK  
1747/2243RNASeqPower 1.45.0  (landing page)Terry M Therneau  OK  
1748/2243RnaSeqSampleSize 2.15.0  (landing page)Shilin Zhao Developer  OK  
1749/2243RnBeads 2.23.0  (landing page)Fabian Mueller  OK  
1750/2243Rnits 1.39.0  (landing page)Dipen P. Sangurdekar  WARNINGS  
1751/2243roar 1.41.0  (landing page)Elena Grassi  OK  
1752/2243roastgsa 1.3.0  (landing page)Adria Caballe  OK  
1753/2243ROC 1.81.0  (landing page)Vince Carey  OK  
1754/2243ROCpAI 1.17.0  (landing page)Juan-Pedro Garcia  OK  
1755/2243RolDE 1.9.0  (landing page)Medical Bioinformatics Centre  OK  
1756/2243rols 3.1.0  (landing page)Laurent Gatto  ERROR  
1757/2243ROntoTools 2.33.0  (landing page)Sorin Draghici  WARNINGS  
1758/2243ropls 1.37.0  (landing page)Etienne A. Thevenot  TIMEOUT  
1759/2243ROSeq 1.17.0  (landing page)Krishan Gupta  WARNINGS  
1760/2243ROTS 1.33.0  (landing page)Tomi Suomi  OK  
1761/2243RPA 1.61.0  (landing page)Leo Lahti  OK  
1762/2243rprimer 1.9.0  (landing page)Sofia Persson  OK  
1763/2243RProtoBufLib 2.17.0  (landing page)Mike Jiang  WARNINGS  
1764/2243rpx 2.13.0  (landing page)Laurent Gatto  OK  
1765/2243Rqc 1.39.0  (landing page)Welliton Souza  TIMEOUT  
1766/2243rqt 1.31.0  (landing page)Ilya Y. Zhbannikov  ERROR  
1767/2243rqubic 1.51.0  (landing page)Jitao David Zhang  WARNINGS  
1768/2243rRDP 1.39.0  (landing page)Michael Hahsler  OK  
1769/2243RRHO 1.45.0  (landing page)Jonathan Rosenblatt  OK  
1770/2243rrvgo 1.17.0  (landing page)Sergi Sayols  OK  
1771/2243Rsamtools 2.21.0  (landing page)Bioconductor Package Maintainer  WARNINGS  
1772/2243rsbml 2.63.0  (landing page)Michael Lawrence  WARNINGS  
1773/2243rScudo 1.21.0  (landing page)Matteo Ciciani  OK  
1774/2243rsemmed 1.15.0  (landing page)Leslie Myint  OK  
1775/2243RSeqAn 1.25.0  (landing page)August Guang  WARNINGS  
1776/2243Rsubread 2.19.0  (landing page)Wei Shi , Yang Liao and Gordon K Smyth  OK  
1777/2243RSVSim 1.45.0  (landing page)Christoph Bartenhagen  OK  
1778/2243rSWeeP 1.17.0  (landing page)Danrley R. Fernandes  OK  
1779/2243RTCA 1.57.0  (landing page)Jitao David Zhang  WARNINGS  
1780/2243RTCGA 1.35.0  (landing page)Marcin Kosinski  OK  
1781/2243RTCGAToolbox 2.35.0  (landing page)Marcel Ramos  OK  
1782/2243RTN 2.29.0  (landing page)Mauro Castro  OK  
1783/2243RTNduals 1.29.0  (landing page)Mauro Castro , Clarice Groeneveld  OK  
1784/2243RTNsurvival 1.29.0  (landing page)Clarice Groeneveld , Mauro A. A. Castro  OK  
1785/2243RTopper 1.51.0  (landing page)Luigi Marchionni  OK  
1786/2243Rtpca 1.15.0  (landing page)Nils Kurzawa  OK  
1787/2243rtracklayer 1.65.0  (landing page)Michael Lawrence  WARNINGS  
1788/2243Rtreemix 1.67.0  (landing page)Jasmina Bogojeska  WARNINGS  
1789/2243rTRM 1.43.0  (landing page)Diego Diez  OK  
1790/2243rTRMui 1.43.0  (landing page)Diego Diez  OK  
1791/2243runibic 1.27.0  (landing page)Patryk Orzechowski  OK  
1792/2243RUVcorr 1.37.0  (landing page)Saskia Freytag  WARNINGS  
1793/2243RUVnormalize 1.39.0  (landing page)Laurent Jacob  OK  
1794/2243RUVSeq 1.39.0  (landing page)Davide Risso  OK  
1795/2243Rvisdiff 1.3.0  (landing page)David Barrios  OK  
1796/2243RVS 1.27.0  (landing page)Alexandre Bureau  WARNINGS  
1797/2243rWikiPathways 1.25.0  (landing page)Egon Willighagen  OK  
S
ABCDEFGHIJKLMNOPQRSTUVWXYZ
PackageMaintainerINSTALL/BUILD/CHECK
1798/2243S4Arrays 1.5.4  (landing page)Hervé Pagès  OK  
1799/2243S4Vectors 0.43.1  (landing page)Hervé Pagès  WARNINGS  
1800/2243safe 3.45.0  (landing page)Ludwig Geistlinger  OK  
1801/2243sagenhaft 1.75.0  (landing page)Tim Beissbarth  WARNINGS  
1802/2243SAIGEgds 2.5.0  (landing page)Xiuwen Zheng  OK  
1803/2243sampleClassifier 1.29.0  (landing page)Khadija El Amrani  OK  
1804/2243SamSPECTRAL 1.59.0  (landing page)Habil  WARNINGS  
1805/2243sangeranalyseR 1.15.0  (landing page)Kuan-Hao Chao  WARNINGS  
1806/2243sangerseqR 1.41.0  (landing page)Jonathon Hill  OK  
1807/2243SANTA 2.41.2  (landing page)Alex Cornish  OK  
1808/2243SARC 1.3.0  (landing page)Krutik Patel  OK  
1809/2243sarks 1.17.0  (landing page)Dennis Wylie  OK  
1810/2243saseR 1.1.0  (landing page)Alexandre Segers  WARNINGS  
1811/2243satuRn 1.13.0  (landing page)Jeroen Gilis  ERROR  
1812/2243SBGNview 1.19.0  (landing page)Weijun Luo  OK  
1813/2243SBMLR 2.1.0  (landing page)Tomas Radivoyevitch  OK  
1814/2243SC3 1.33.0  (landing page)Vladimir Kiselev  OK  
1815/2243Scale4C 1.27.0  (landing page)Carolin Walter  OK  
1816/2243ScaledMatrix 1.13.0  (landing page)Aaron Lun  ERROR  
1817/2243SCAN.UPC 2.47.0  (landing page)Stephen R. Piccolo  OK  
1818/2243scanMiR 1.11.0  (landing page)Pierre-Luc Germain  OK  
1819/2243scanMiRApp 1.11.0  (landing page)Pierre-Luc Germain  OK  
1820/2243scAnnotatR 1.11.0  (landing page)Johannes Griss  WARNINGS  
1821/2243SCANVIS 1.19.0  (landing page)Phaedra Agius  OK  
1822/2243SCArray 1.13.0  (landing page)Xiuwen Zheng  ERROR  
1823/2243SCArray.sat 1.5.0  (landing page)Xiuwen Zheng  ERROR  
1824/2243scater 1.33.2  (landing page)Alan O'Callaghan  ERROR  
1825/2243scatterHatch 1.11.0  (landing page)Atul Deshpande  OK  
1826/2243scBFA 1.19.0  (landing page)Ruoxin Li  OK  
1827/2243SCBN 1.23.0  (landing page)Yan Zhou  OK  
1828/2243scBubbletree 1.7.16  (landing page)Simo Kitanovski  OK  
1829/2243scCB2 1.15.0  (landing page)Zijian Ni  OK  
1830/2243<