Index of /checkResults/3.19/workflows-LATEST/methylationArrayAnalysis/raw-results
Name
Last modified
Size
Description
Parent Directory
-
info.dcf
08-Jun-2024 08:56
319
lconway/
08-Jun-2024 08:56
-
merida1/
02-Mar-2024 04:00
-
nebbiolo1/
08-Jun-2024 08:56
-
palomino3/
08-Jun-2024 08:56
-