Index of /checkResults/3.19/data-experiment-LATEST/mosaicsExample/raw-results
Name
Last modified
Size
Description
Parent Directory
-
info.dcf
24-Jul-2024 03:51
289
nebbiolo1/
24-Jul-2024 03:51
-