Name | Last modified | Size | Description | |
---|---|---|---|---|
Parent Directory | - | |||
checksrc-summary.dcf | 26-Jul-2024 03:51 | 443 | ||
checksrc-out.txt | 26-Jul-2024 03:51 | 3.0K | ||
install-summary.dcf | 26-Jul-2024 03:51 | 270 | ||
install-out.txt | 26-Jul-2024 03:51 | 896 | ||
buildsrc-summary.dcf | 26-Jul-2024 03:51 | 435 | ||
buildsrc-out.txt | 26-Jul-2024 03:51 | 821 | ||