Name | Last modified | Size | Description | |
---|---|---|---|---|
Parent Directory | - | |||
checksrc-out.txt | 26-Jul-2024 03:51 | 3.3K | ||
install-out.txt | 26-Jul-2024 03:51 | 1.0K | ||
buildsrc-out.txt | 26-Jul-2024 03:51 | 849 | ||
checksrc-summary.dcf | 26-Jul-2024 03:51 | 456 | ||
buildsrc-summary.dcf | 26-Jul-2024 03:51 | 449 | ||
install-summary.dcf | 26-Jul-2024 03:51 | 280 | ||