Index of /checkResults/3.19/data-experiment-LATEST/SimBenchData/raw-results
Name
Last modified
Size
Description
Parent Directory
-
info.dcf
26-Jul-2024 03:51
282
nebbiolo1/
26-Jul-2024 03:51
-