Index of /checkResults/3.19/data-experiment-LATEST/SNPhoodData/raw-results
Name
Last modified
Size
Description
Parent Directory
-
nebbiolo1/
26-Jul-2024 03:51
-
info.dcf
26-Jul-2024 03:51
287