Index of /checkResults/3.19/data-experiment-LATEST/RTCGA.mutations/raw-results
Name
Last modified
Size
Description
Parent Directory
-
nebbiolo1/
24-Jul-2024 03:51
-
info.dcf
24-Jul-2024 03:51
299