Index of /checkResults/3.19/data-experiment-LATEST/NCIgraphData/raw-results
Name
Last modified
Size
Description
Parent Directory
-
info.dcf
07-Jun-2024 03:51
285
nebbiolo1/
07-Jun-2024 03:51
-