Index of /checkResults/3.19/data-experiment-LATEST/MEEBOdata/raw-results
Name
Last modified
Size
Description
Parent Directory
-
info.dcf
07-Jun-2024 03:51
279
nebbiolo1/
07-Jun-2024 03:51
-