Index of /checkResults/3.19/data-experiment-LATEST/Fletcher2013a/raw-results
Name
Last modified
Size
Description
Parent Directory
-
info.dcf
24-Jul-2024 03:51
287
nebbiolo1/
24-Jul-2024 03:51
-