Name | Last modified | Size | Description | |
---|---|---|---|---|
Parent Directory | - | |||
buildsrc-out.txt | 24-Jul-2024 03:51 | 941 | ||
buildsrc-summary.dcf | 24-Jul-2024 03:51 | 470 | ||
install-out.txt | 24-Jul-2024 03:51 | 948 | ||
install-summary.dcf | 24-Jul-2024 03:51 | 294 | ||
checksrc-out.txt | 24-Jul-2024 03:51 | 3.6K | ||
checksrc-summary.dcf | 24-Jul-2024 03:51 | 491 | ||