Index of /checkResults/3.19/data-experiment-LATEST/COPDSexualDimorphism.data/raw-results
Name
Last modified
Size
Description
Parent Directory
-
info.dcf
24-Jul-2024 03:51
317
nebbiolo1/
24-Jul-2024 03:51
-