Name | Last modified | Size | Description | |
---|---|---|---|---|
Parent Directory | - | |||
buildsrc-out.txt | 24-Jul-2024 21:30 | 1.0K | ||
buildsrc-summary.dcf | 24-Jul-2024 21:30 | 434 | ||
checksrc-out.txt | 24-Jul-2024 21:30 | 8.5K | ||
checksrc-summary.dcf | 24-Jul-2024 21:30 | 442 | ||
install-out.txt | 24-Jul-2024 21:30 | 1.3K | ||
install-summary.dcf | 24-Jul-2024 21:30 | 270 | ||