Index of /checkResults/3.19/data-annotation-LATEST/scAnnotatR.models/raw-results/nebbiolo1
Name
Last modified
Size
Description
Parent Directory
-
buildsrc-out.txt
24-Jul-2024 21:30
1.2K
buildsrc-summary.dcf
24-Jul-2024 21:30
354
install-out.txt
24-Jul-2024 21:30
1.0K
install-summary.dcf
24-Jul-2024 21:30
279