Index of /checkResults/3.19/data-annotation-LATEST/rat2302frmavecs/raw-results
Name
Last modified
Size
Description
Parent Directory
-
nebbiolo1/
24-Jul-2024 21:30
-
info.dcf
24-Jul-2024 21:30
289