Name | Last modified | Size | Description | |
---|---|---|---|---|
Parent Directory | - | |||
install-summary.dcf | 24-Jul-2024 21:30 | 266 | ||
install-out.txt | 24-Jul-2024 21:30 | 956 | ||
checksrc-summary.dcf | 24-Jul-2024 21:30 | 433 | ||
checksrc-out.txt | 24-Jul-2024 21:30 | 2.9K | ||
buildsrc-summary.dcf | 24-Jul-2024 21:30 | 427 | ||
buildsrc-out.txt | 24-Jul-2024 21:30 | 862 | ||