Index of /checkResults/3.19/data-annotation-LATEST/cadd.v1.6.hg38/raw-results
Name
Last modified
Size
Description
Parent Directory
-
info.dcf
24-Jul-2024 21:30
289
nebbiolo1/
24-Jul-2024 21:30
-