Name | Last modified | Size | Description | |
---|---|---|---|---|
Parent Directory | - | |||
buildsrc-out.txt | 24-Jul-2024 21:30 | 842 | ||
buildsrc-summary.dcf | 24-Jul-2024 21:30 | 444 | ||
checksrc-out.txt | 24-Jul-2024 21:30 | 3.9K | ||
checksrc-summary.dcf | 24-Jul-2024 21:30 | 454 | ||
install-out.txt | 24-Jul-2024 21:30 | 1.0K | ||
install-summary.dcf | 24-Jul-2024 21:30 | 277 | ||