Index of /checkResults/3.19/data-annotation-LATEST/MPO.db/raw-results
Name
Last modified
Size
Description
Parent Directory
-
info.dcf
24-Jul-2024 21:30
266
nebbiolo1/
24-Jul-2024 21:30
-